Back to Multiple platform build/check report for BioC 3.19:   simplified   long
[A]BCDEFGHIJKLMNOPQRSTUVWXYZ

This page was generated on 2024-06-18 17:58 -0400 (Tue, 18 Jun 2024).

HostnameOSArch (*)R versionInstalled pkgs
nebbiolo1Linux (Ubuntu 22.04.3 LTS)x86_644.4.0 (2024-04-24) -- "Puppy Cup" 4758
palomino3Windows Server 2022 Datacenterx644.4.0 (2024-04-24 ucrt) -- "Puppy Cup" 4492
merida1macOS 12.7.4 Montereyx86_644.4.0 (2024-04-24) -- "Puppy Cup" 4464
kjohnson1macOS 13.6.6 Venturaarm644.4.0 (2024-04-24) -- "Puppy Cup" 4464
Click on any hostname to see more info about the system (e.g. compilers)      (*) as reported by 'uname -p', except on Windows and Mac OS X

Package 14/2300HostnameOS / ArchINSTALLBUILDCHECKBUILD BIN
ADaCGH2 2.44.0  (landing page)
Ramon Diaz-Uriarte
Snapshot Date: 2024-06-16 14:00 -0400 (Sun, 16 Jun 2024)
git_url: https://git.bioconductor.org/packages/ADaCGH2
git_branch: RELEASE_3_19
git_last_commit: 8e4a752
git_last_commit_date: 2024-04-30 10:23:01 -0400 (Tue, 30 Apr 2024)
nebbiolo1Linux (Ubuntu 22.04.3 LTS) / x86_64  OK    OK    OK  UNNEEDED, same version is already published
palomino3Windows Server 2022 Datacenter / x64  OK    OK    OK    OK  UNNEEDED, same version is already published
merida1macOS 12.7.4 Monterey / x86_64  OK    OK    OK    OK  UNNEEDED, same version is already published
kjohnson1macOS 13.6.6 Ventura / arm64  OK    OK    OK    OK  UNNEEDED, same version is already published


BUILD BIN results for ADaCGH2 on palomino3

To the developers/maintainers of the ADaCGH2 package:
- Allow up to 24 hours (and sometimes 48 hours) for your latest push to git@git.bioconductor.org:packages/ADaCGH2.git to reflect on this report. See Troubleshooting Build Report for more information.
- Use the following Renviron settings to reproduce errors and warnings.
- If 'R CMD check' started to fail recently on the Linux builder(s) over a missing dependency, add the missing dependency to 'Suggests:' in your DESCRIPTION file. See Renviron.bioc for more information.

raw results


Summary

Package: ADaCGH2
Version: 2.44.0
Command: rm -rf ADaCGH2.buildbin-libdir && mkdir ADaCGH2.buildbin-libdir && F:\biocbuild\bbs-3.19-bioc\R\bin\R.exe CMD INSTALL --build --library=ADaCGH2.buildbin-libdir ADaCGH2_2.44.0.tar.gz
StartedAt: 2024-06-17 15:13:05 -0400 (Mon, 17 Jun 2024)
EndedAt: 2024-06-17 15:15:19 -0400 (Mon, 17 Jun 2024)
EllapsedTime: 134.4 seconds
RetCode: 0
Status:   OK  
PackageFile: ADaCGH2_2.44.0.zip
PackageFileSize: 1.052 MiB

Command output

##############################################################################
##############################################################################
###
### Running command:
###
###   rm -rf ADaCGH2.buildbin-libdir && mkdir ADaCGH2.buildbin-libdir && F:\biocbuild\bbs-3.19-bioc\R\bin\R.exe CMD INSTALL --build --library=ADaCGH2.buildbin-libdir ADaCGH2_2.44.0.tar.gz
###
##############################################################################
##############################################################################


* installing *source* package 'ADaCGH2' ...
** using staged installation
** libs
using C compiler: 'gcc.exe (GCC) 13.2.0'
gcc  -I"F:/biocbuild/bbs-3.19-bioc/R/include" -DNDEBUG     -I"C:/rtools44/x86_64-w64-mingw32.static.posix/include"     -O2 -Wall  -mfpmath=sse -msse2 -mstackrealign  -c init.c -o init.o
gcc  -I"F:/biocbuild/bbs-3.19-bioc/R/include" -DNDEBUG     -I"C:/rtools44/x86_64-w64-mingw32.static.posix/include"     -O2 -Wall  -mfpmath=sse -msse2 -mstackrealign  -c r_haarseg.c -o r_haarseg.o
r_haarseg.c: In function 'ad_HaarConv':
r_haarseg.c:65:12: warning: unused variable 'totalNorm' [-Wunused-variable]
   65 |     double totalNorm;
      |            ^~~~~~~~~
r_haarseg.c: In function 'ad_FindLocalPeaks':
r_haarseg.c:152:43: warning: "/*" within comment [-Wcomment]
  152 |                                          }/* for j */
      |                                            
r_haarseg.c:176:43: warning: "/*" within comment [-Wcomment]
  176 |                                          }/* for j */
      |                                            
r_haarseg.c:128:16: warning: unused variable 'j' [-Wunused-variable]
  128 |          int k,j;
      |                ^
r_haarseg.c: In function 'ad_HaarConv':
r_haarseg.c:98:26: warning: 'lowWeightSum' may be used uninitialized [-Wmaybe-uninitialized]
   98 |             lowWeightSum += weight[k-1] - weight[lowEnd];
      |             ~~~~~~~~~~~~~^~~~~~~~~~~~~~~~~~~~~~~~~~~~~~~
r_haarseg.c:59:12: note: 'lowWeightSum' was declared here
   59 |     double lowWeightSum;
      |            ^~~~~~~~~~~~
r_haarseg.c:96:26: warning: 'lowNonNormed' may be used uninitialized [-Wmaybe-uninitialized]
   96 |             lowNonNormed += signal[lowEnd]*weight[lowEnd] - signal[k-1]*weight[k-1];
      |             ~~~~~~~~~~~~~^~~~~~~~~~~~~~~~~~~~~~~~~~~~~~~~~~~~~~~~~~~~~~~~~~~~~~~~~~
r_haarseg.c:63:12: note: 'lowNonNormed' was declared here
   63 |     double lowNonNormed;
      |            ^~~~~~~~~~~~
r_haarseg.c:97:27: warning: 'highNonNormed' may be used uninitialized [-Wmaybe-uninitialized]
   97 |             highNonNormed += signal[highEnd]*weight[highEnd] - signal[k-1]*weight[k-1];
      |             ~~~~~~~~~~~~~~^~~~~~~~~~~~~~~~~~~~~~~~~~~~~~~~~~~~~~~~~~~~~~~~~~~~~~~~~~~~
r_haarseg.c:64:12: note: 'highNonNormed' was declared here
   64 |     double highNonNormed;
      |            ^~~~~~~~~~~~~
gcc -shared -s -static-libgcc -o ADaCGH2.dll tmp.def init.o r_haarseg.o -LC:/rtools44/x86_64-w64-mingw32.static.posix/lib/x64 -LC:/rtools44/x86_64-w64-mingw32.static.posix/lib -LF:/biocbuild/bbs-3.19-bioc/R/bin/x64 -lR
installing to F:/biocbuild/bbs-3.19-bioc/meat/ADaCGH2.buildbin-libdir/00LOCK-ADaCGH2/00new/ADaCGH2/libs/x64
** R
** data
** inst
** byte-compile and prepare package for lazy loading
** help
*** installing help indices
** building package indices
** installing vignettes
** testing if installed package can be loaded from temporary location
** testing if installed package can be loaded from final location
** testing if installed package keeps a record of temporary installation path
* MD5 sums
packaged installation of 'ADaCGH2' as ADaCGH2_2.44.0.zip
* DONE (ADaCGH2)