Back to Multiple platform build/check report for BioC 3.13
[A]BCDEFGHIJKLMNOPQRSTUVWXYZ

This page was generated on 2021-09-22 15:05:07 -0400 (Wed, 22 Sep 2021).

INSTALL results for ADImpute on tokay2

To the developers/maintainers of the ADImpute package:
- Please allow up to 24 hours (and sometimes 48 hours) for your latest push to git@git.bioconductor.org:packages/ADImpute.git to
reflect on this report. See How and When does the builder pull? When will my changes propagate? here for more information.
- Make sure to use the following settings in order to reproduce any error or warning you see on this page.

raw results

Package 19/2041HostnameOS / ArchINSTALLBUILDCHECKBUILD BIN
ADImpute 1.2.0  (landing page)
Ana Carolina Leote
Snapshot Date: 2021-09-21 04:50:12 -0400 (Tue, 21 Sep 2021)
git_url: https://git.bioconductor.org/packages/ADImpute
git_branch: RELEASE_3_13
git_last_commit: 7c93ba7
git_last_commit_date: 2021-05-19 12:57:20 -0400 (Wed, 19 May 2021)
nebbiolo1Linux (Ubuntu 20.04.2 LTS) / x86_64  OK    OK    WARNINGS  UNNEEDED, same version is already published
tokay2Windows Server 2012 R2 Standard / x64  OK    OK    WARNINGS    OK  UNNEEDED, same version is already published
machv2macOS 10.14.6 Mojave / x86_64  OK    OK    WARNINGS    OK  UNNEEDED, same version is already published

Summary

Package: ADImpute
Version: 1.2.0
Command: C:\cygwin\bin\curl.exe -O http://155.52.207.165/BBS/3.13/bioc/src/contrib/ADImpute_1.2.0.tar.gz && rm -rf ADImpute.buildbin-libdir && mkdir ADImpute.buildbin-libdir && C:\Users\biocbuild\bbs-3.13-bioc\R\bin\R.exe CMD INSTALL --merge-multiarch --build --library=ADImpute.buildbin-libdir ADImpute_1.2.0.tar.gz && C:\Users\biocbuild\bbs-3.13-bioc\R\bin\R.exe CMD INSTALL ADImpute_1.2.0.zip && rm ADImpute_1.2.0.tar.gz ADImpute_1.2.0.zip
StartedAt: 2021-09-21 10:58:31 -0400 (Tue, 21 Sep 2021)
EndedAt: 2021-09-21 10:59:06 -0400 (Tue, 21 Sep 2021)
EllapsedTime: 35.9 seconds
RetCode: 0
Status:   OK  

Command output

##############################################################################
##############################################################################
###
### Running command:
###
###   C:\cygwin\bin\curl.exe -O http://155.52.207.165/BBS/3.13/bioc/src/contrib/ADImpute_1.2.0.tar.gz && rm -rf ADImpute.buildbin-libdir && mkdir ADImpute.buildbin-libdir && C:\Users\biocbuild\bbs-3.13-bioc\R\bin\R.exe CMD INSTALL --merge-multiarch --build --library=ADImpute.buildbin-libdir ADImpute_1.2.0.tar.gz && C:\Users\biocbuild\bbs-3.13-bioc\R\bin\R.exe CMD INSTALL ADImpute_1.2.0.zip && rm ADImpute_1.2.0.tar.gz ADImpute_1.2.0.zip
###
##############################################################################
##############################################################################


  % Total    % Received % Xferd  Average Speed   Time    Time     Time  Current
                                 Dload  Upload   Total   Spent    Left  Speed

  0     0    0     0    0     0      0      0 --:--:-- --:--:-- --:--:--     0
 45 1950k   45  893k    0     0  1488k      0  0:00:01 --:--:--  0:00:01 1489k
100 1950k  100 1950k    0     0  1994k      0 --:--:-- --:--:-- --:--:-- 1994k

install for i386

* installing *source* package 'ADImpute' ...
** using staged installation
** R
** data
*** moving datasets to lazyload DB
** inst
** byte-compile and prepare package for lazy loading
** help
*** installing help indices
  converting help for package 'ADImpute'
    finding HTML links ... done
    ArrangeData                             html  
    CenterData                              html  
    CheckArguments_Impute                   html  
    ChooseMethod                            html  
    Combine                                 html  
    ComputeMSEGenewise                      html  
    CreateArgCheck                          html  
    CreateTrainData                         html  
    DataCheck_Matrix                        html  
    DataCheck_Network                       html  
    DataCheck_SingleCellExperiment          html  
    DataCheck_TrLength                      html  
    EvaluateMethods                         html  
    GetDropoutProbabilities                 html  
    HandleBiologicalZeros                   html  
    Impute                                  html  
    ImputeBaseline                          html  
    ImputeDrImpute                          html  
    ImputeNPDropouts                        html  
    ImputeNetParallel                       html  
    ImputeNetwork                           html  
    ImputePredictiveDropouts                html  
    ImputeSAVER                             html  
    MaskData                                html  
    MaskerPerGene                           html  
    NormalizeRPM                            html  
    NormalizeTPM                            html  
    PseudoInverseSolution_percell           html  
    ReadData                                html  
    ReturnChoice                            html  
    ReturnOut                               html  
    SetBiologicalZeros                      html  
    SplitData                               html  
    WriteCSV                                html  
    WriteTXT                                html  
    demo_data                               html  
    demo_net                                html  
    demo_sce                                html  
    network.coefficients                    html  
    transcript_length                       html  
** building package indices
** installing vignettes
** testing if installed package can be loaded from temporary location
** testing if installed package can be loaded from final location
** testing if installed package keeps a record of temporary installation path

install for x64

* installing *source* package 'ADImpute' ...
** testing if installed package can be loaded
* MD5 sums
packaged installation of 'ADImpute' as ADImpute_1.2.0.zip
* DONE (ADImpute)
* installing to library 'C:/Users/biocbuild/bbs-3.13-bioc/R/library'
package 'ADImpute' successfully unpacked and MD5 sums checked