Back to Workflows build report for BioC 3.20

This page was generated on 2024-07-09 16:30 -0400 (Tue, 09 Jul 2024).

HostnameOSArch (*)R versionInstalled pkgs
nebbiolo2Linux (Ubuntu 22.04.3 LTS)x86_644.4.1 (2024-06-14) -- "Race for Your Life" 4643
palomino6Windows Server 2022 Datacenterx644.4.1 (2024-06-14 ucrt) -- "Race for Your Life" 4414
lconwaymacOS 12.7.1 Montereyx86_644.4.1 (2024-06-14) -- "Race for Your Life" 4442
Click on any hostname to see more info about the system (e.g. compilers)      (*) as reported by 'uname -p', except on Windows and Mac OS X

All results for package simpleSingleCell


To the developers/maintainers of the simpleSingleCell package:
- Use the following Renviron settings to reproduce errors and warnings.
- If 'R CMD check' started to fail recently on the Linux builder(s) over a missing dependency, add the missing dependency to 'Suggests:' in your DESCRIPTION file. See Renviron.bioc for more information.

raw results

Package 26/30HostnameOS / ArchINSTALLBUILD
simpleSingleCell 1.29.0  (landing page)
Aaron Lun
Snapshot Date: 2024-07-09 12:45 -0400 (Tue, 09 Jul 2024)
git_url: https://git.bioconductor.org/packages/simpleSingleCell
git_branch: devel
git_last_commit: b9b62a5
git_last_commit_date: 2024-04-30 10:13:41 -0400 (Tue, 30 Apr 2024)
nebbiolo2Linux (Ubuntu 22.04.3 LTS) / x86_64  OK    OK  UNNEEDED, same version is already published
palomino6Windows Server 2022 Datacenter / x64... NOT SUPPORTED ...
lconwaymacOS 12.7.1 Monterey / x86_64  OK    OK