Back to Workflows build report for BioC 3.20

This page was generated on 2024-05-21 14:00:09 -0400 (Tue, 21 May 2024).

HostnameOSArch (*)R versionInstalled pkgs
nebbiolo2Linux (Ubuntu 22.04.3 LTS)x86_644.4.0 RC (2024-04-16 r86468) -- "Puppy Cup" 4665
palomino4Windows Server 2022 Datacenterx644.4.0 RC (2024-04-16 r86468 ucrt) -- "Puppy Cup" 4400
merida1macOS 12.7.4 Montereyx86_644.4.0 Patched (2024-04-24 r86482) -- "Puppy Cup" 4427
Click on any hostname to see more info about the system (e.g. compilers)      (*) as reported by 'uname -p', except on Windows and Mac OS X

All results for package RnaSeqGeneEdgeRQL


To the developers/maintainers of the RnaSeqGeneEdgeRQL package:
- Use the following Renviron settings to reproduce errors and warnings.
- If 'R CMD check' started to fail recently on the Linux builder(s) over a missing dependency, add the missing dependency to 'Suggests:' in your DESCRIPTION file. See Renviron.bioc for more information.

raw results

Package 23/30HostnameOS / ArchINSTALLBUILD
RnaSeqGeneEdgeRQL 1.29.0  (landing page)
Yunshun Chen
Snapshot Date: 2024-05-21 10:45:01 -0400 (Tue, 21 May 2024)
git_url: https://git.bioconductor.org/packages/RnaSeqGeneEdgeRQL
git_branch: devel
git_last_commit: 046cdf5
git_last_commit_date: 2024-04-30 10:13:33 -0400 (Tue, 30 Apr 2024)
nebbiolo2Linux (Ubuntu 22.04.3 LTS) / x86_64  OK    OK  UNNEEDED, same version is already published
palomino4Windows Server 2022 Datacenter / x64  OK    OK  
merida1macOS 12.7.4 Monterey / x86_64  OK    OK