Index of /checkResults/devel/workflows-LATEST/EGSEA123/raw-results/nebbiolo2

[ICO]NameLast modifiedSizeDescription

[DIR]Parent Directory  -  
[TXT]buildsrc-out.txt10-Jul-2024 05:30 844  
[   ]buildsrc-summary.dcf10-Jul-2024 05:30 421  
[TXT]install-out.txt10-Jul-2024 05:30 1.0K 
[   ]install-summary.dcf10-Jul-2024 05:30 261