Index of /checkResults/devel/workflows-LATEST/EGSEA123/raw-results

[ICO]NameLast modifiedSizeDescription

[DIR]Parent Directory  -  
[DIR]merida1/12-Jun-2024 05:30 -  
[DIR]palomino4/15-Jun-2024 05:30 -  
[   ]info.dcf10-Jul-2024 05:30 269  
[DIR]nebbiolo2/10-Jul-2024 05:30 -  
[DIR]palomino6/10-Jul-2024 05:30 -  
[DIR]lconway/10-Jul-2024 05:30 -