Index of /checkResults/devel/workflows-LATEST/EGSEA123/raw-results

[ICO]NameLast modifiedSizeDescription

[DIR]Parent Directory  -  
[   ]info.dcf12-Jun-2024 05:30 269  
[DIR]merida1/12-Jun-2024 05:30 -  
[DIR]nebbiolo2/12-Jun-2024 05:30 -  
[DIR]palomino4/12-Jun-2024 05:30 -