Back to Workflows build report for BioC 3.20

This page was generated on 2024-06-11 16:30 -0400 (Tue, 11 Jun 2024).

HostnameOSArch (*)R versionInstalled pkgs
nebbiolo2Linux (Ubuntu 22.04.3 LTS)x86_644.4.0 RC (2024-04-16 r86468) -- "Puppy Cup" 4679
palomino4Windows Server 2022 Datacenterx644.4.0 RC (2024-04-16 r86468 ucrt) -- "Puppy Cup" 4414
merida1macOS 12.7.4 Montereyx86_644.4.0 Patched (2024-04-24 r86482) -- "Puppy Cup" 4441
Click on any hostname to see more info about the system (e.g. compilers)      (*) as reported by 'uname -p', except on Windows and Mac OS X

Package 9/30HostnameOS / ArchINSTALLBUILD
EGSEA123 1.29.0  (landing page)
Matthew Ritchie
Snapshot Date: 2024-06-11 12:45 -0400 (Tue, 11 Jun 2024)
git_url: https://git.bioconductor.org/packages/EGSEA123
git_branch: devel
git_last_commit: 9308adb
git_last_commit_date: 2024-04-30 10:13:03 -0400 (Tue, 30 Apr 2024)
nebbiolo2Linux (Ubuntu 22.04.3 LTS) / x86_64  OK    OK  UNNEEDED, same version is already published
palomino4Windows Server 2022 Datacenter / x64  OK    OK  
merida1macOS 12.7.4 Monterey / x86_64  OK    OK  


INSTALL results for EGSEA123 on nebbiolo2

To the developers/maintainers of the EGSEA123 package:
- Use the following Renviron settings to reproduce errors and warnings.
- If 'R CMD check' started to fail recently on the Linux builder(s) over a missing dependency, add the missing dependency to 'Suggests:' in your DESCRIPTION file. See Renviron.bioc for more information.

raw results


Summary

Package: EGSEA123
Version: 1.29.0
Command: /home/biocbuild/bbs-3.20-bioc/R/bin/R CMD INSTALL EGSEA123
StartedAt: 2024-06-11 13:00:40 -0400 (Tue, 11 Jun 2024)
EndedAt: 2024-06-11 13:01:11 -0400 (Tue, 11 Jun 2024)
EllapsedTime: 31.1 seconds
RetCode: 0
Status:   OK  

Command output

##############################################################################
##############################################################################
###
### Running command:
###
###   /home/biocbuild/bbs-3.20-bioc/R/bin/R CMD INSTALL EGSEA123
###
##############################################################################
##############################################################################


* installing to library ‘/home/biocbuild/bbs-3.20-bioc/R/site-library’
* installing *source* package ‘EGSEA123’ ...
** using staged installation
** help
No man pages found in package  ‘EGSEA123’ 
*** installing help indices
** building package indices
** installing vignettes
** testing if installed package can be loaded from temporary location

groupGOTerms: 	GOBPTerm, GOMFTerm, GOCCTerm environments built.
** testing if installed package can be loaded from final location

groupGOTerms: 	GOBPTerm, GOMFTerm, GOCCTerm environments built.
** testing if installed package keeps a record of temporary installation path
* DONE (EGSEA123)