Back to Build/check report for BioC 3.14 experimental data
ABCDEFGHIJKLMNOPQRSTUVWX[Y]Z

This page was generated on 2021-10-16 15:51:46 -0400 (Sat, 16 Oct 2021).

BUILD results for yeastGSData on nebbiolo2

To the developers/maintainers of the yeastGSData package:
Make sure to use the following settings in order to reproduce any error or warning you see on this page.

raw results

Package 401/404HostnameOS / ArchINSTALLBUILDCHECK
yeastGSData 0.31.0  (landing page)
R. Gentleman
Snapshot Date: 2021-10-16 09:30:02 -0400 (Sat, 16 Oct 2021)
git_url: https://git.bioconductor.org/packages/yeastGSData
git_branch: master
git_last_commit: 885bb11
git_last_commit_date: 2021-05-19 11:27:31 -0400 (Wed, 19 May 2021)
nebbiolo2Linux (Ubuntu 20.04.2 LTS) / x86_64  OK    OK    WARNINGS  UNNEEDED, same version is already published

Summary

Package: yeastGSData
Version: 0.31.0
Command: /home/biocbuild/bbs-3.14-bioc/R/bin/R CMD build --keep-empty-dirs --no-resave-data yeastGSData
StartedAt: 2021-10-16 11:38:16 -0400 (Sat, 16 Oct 2021)
EndedAt: 2021-10-16 11:38:28 -0400 (Sat, 16 Oct 2021)
EllapsedTime: 11.9 seconds
RetCode: 0
Status:   OK  
PackageFile: yeastGSData_0.31.0.tar.gz
PackageFileSize: 8.124 MiB

Command output

##############################################################################
##############################################################################
###
### Running command:
###
###   /home/biocbuild/bbs-3.14-bioc/R/bin/R CMD build --keep-empty-dirs --no-resave-data yeastGSData
###
##############################################################################
##############################################################################


* checking for file ‘yeastGSData/DESCRIPTION’ ... OK
* preparing ‘yeastGSData’:
* checking DESCRIPTION meta-information ... OK
* checking for LF line-endings in source and make files and shell scripts
* checking for empty or unneeded directories
* looking to see if a ‘data/datalist’ file should be added
* building ‘yeastGSData_0.31.0.tar.gz’