Back to Build/check report for BioC 3.14 experimental data
ABCDEFGHIJKLMNOPQRSTUVWX[Y]Z

This page was generated on 2021-10-16 15:51:46 -0400 (Sat, 16 Oct 2021).

BUILD results for yeastExpData on nebbiolo2

To the developers/maintainers of the yeastExpData package:
Make sure to use the following settings in order to reproduce any error or warning you see on this page.

raw results

Package 400/404HostnameOS / ArchINSTALLBUILDCHECK
yeastExpData 0.39.0  (landing page)
R. Gentleman
Snapshot Date: 2021-10-16 09:30:02 -0400 (Sat, 16 Oct 2021)
git_url: https://git.bioconductor.org/packages/yeastExpData
git_branch: master
git_last_commit: 96dca91
git_last_commit_date: 2021-05-19 11:26:04 -0400 (Wed, 19 May 2021)
nebbiolo2Linux (Ubuntu 20.04.2 LTS) / x86_64  OK    OK    WARNINGS  UNNEEDED, same version is already published

Summary

Package: yeastExpData
Version: 0.39.0
Command: /home/biocbuild/bbs-3.14-bioc/R/bin/R CMD build --keep-empty-dirs --no-resave-data yeastExpData
StartedAt: 2021-10-16 11:38:16 -0400 (Sat, 16 Oct 2021)
EndedAt: 2021-10-16 11:38:21 -0400 (Sat, 16 Oct 2021)
EllapsedTime: 5.1 seconds
RetCode: 0
Status:   OK  
PackageFile: yeastExpData_0.39.0.tar.gz
PackageFileSize: 947.9 KiB

Command output

##############################################################################
##############################################################################
###
### Running command:
###
###   /home/biocbuild/bbs-3.14-bioc/R/bin/R CMD build --keep-empty-dirs --no-resave-data yeastExpData
###
##############################################################################
##############################################################################


* checking for file ‘yeastExpData/DESCRIPTION’ ... OK
* preparing ‘yeastExpData’:
* checking DESCRIPTION meta-information ... OK
* installing the package to build vignettes
* creating vignettes ... OK
* checking for LF line-endings in source and make files and shell scripts
* checking for empty or unneeded directories
* looking to see if a ‘data/datalist’ file should be added
* building ‘yeastExpData_0.39.0.tar.gz’