Back to Build/check report for BioC 3.14 experimental data
ABCDEFGHIJKLMNOPQRSTUVWX[Y]Z

This page was generated on 2021-10-21 15:52:04 -0400 (Thu, 21 Oct 2021).

BUILD results for yeastCC on nebbiolo2

To the developers/maintainers of the yeastCC package:
Make sure to use the following settings in order to reproduce any error or warning you see on this page.

raw results

Package 401/406HostnameOS / ArchINSTALLBUILDCHECK
yeastCC 1.33.0  (landing page)
Sandrine Dudoit
Snapshot Date: 2021-10-21 09:30:01 -0400 (Thu, 21 Oct 2021)
git_url: https://git.bioconductor.org/packages/yeastCC
git_branch: master
git_last_commit: 3192c96
git_last_commit_date: 2021-05-19 11:26:00 -0400 (Wed, 19 May 2021)
nebbiolo2Linux (Ubuntu 20.04.2 LTS) / x86_64  OK    OK    WARNINGS  UNNEEDED, same version is already published

Summary

Package: yeastCC
Version: 1.33.0
Command: /home/biocbuild/bbs-3.14-bioc/R/bin/R CMD build --keep-empty-dirs --no-resave-data yeastCC
StartedAt: 2021-10-21 11:39:34 -0400 (Thu, 21 Oct 2021)
EndedAt: 2021-10-21 11:39:35 -0400 (Thu, 21 Oct 2021)
EllapsedTime: 1.0 seconds
RetCode: 0
Status:   OK  
PackageFile: yeastCC_1.33.0.tar.gz
PackageFileSize: 5.842 MiB

Command output

##############################################################################
##############################################################################
###
### Running command:
###
###   /home/biocbuild/bbs-3.14-bioc/R/bin/R CMD build --keep-empty-dirs --no-resave-data yeastCC
###
##############################################################################
##############################################################################


* checking for file ‘yeastCC/DESCRIPTION’ ... OK
* preparing ‘yeastCC’:
* checking DESCRIPTION meta-information ... OK
* checking whether ‘INDEX’ is up-to-date ... NO
* use ‘--force’ to remove the existing ‘INDEX’
* checking for LF line-endings in source and make files and shell scripts
* checking for empty or unneeded directories
* building ‘yeastCC_1.33.0.tar.gz’