Back to Build/check report for BioC 3.14 experimental data
ABCDEFGHIJKLMNOPQRS[T]UVWXYZ

This page was generated on 2021-10-23 15:51:47 -0400 (Sat, 23 Oct 2021).

BUILD results for topdownrdata on nebbiolo2

To the developers/maintainers of the topdownrdata package:
Make sure to use the following settings in order to reproduce any error or warning you see on this page.

raw results

Package 394/408HostnameOS / ArchINSTALLBUILDCHECK
topdownrdata 1.15.0  (landing page)
Sebastian Gibb
Snapshot Date: 2021-10-23 09:30:01 -0400 (Sat, 23 Oct 2021)
git_url: https://git.bioconductor.org/packages/topdownrdata
git_branch: master
git_last_commit: 857727c
git_last_commit_date: 2021-05-19 12:02:33 -0400 (Wed, 19 May 2021)
nebbiolo2Linux (Ubuntu 20.04.2 LTS) / x86_64  OK    OK    OK  UNNEEDED, same version is already published

Summary

Package: topdownrdata
Version: 1.15.0
Command: /home/biocbuild/bbs-3.14-bioc/R/bin/R CMD build --keep-empty-dirs --no-resave-data topdownrdata
StartedAt: 2021-10-23 11:39:51 -0400 (Sat, 23 Oct 2021)
EndedAt: 2021-10-23 11:39:57 -0400 (Sat, 23 Oct 2021)
EllapsedTime: 5.9 seconds
RetCode: 0
Status:   OK  
PackageFile: topdownrdata_1.15.0.tar.gz
PackageFileSize: 100.9 MiB

Command output

##############################################################################
##############################################################################
###
### Running command:
###
###   /home/biocbuild/bbs-3.14-bioc/R/bin/R CMD build --keep-empty-dirs --no-resave-data topdownrdata
###
##############################################################################
##############################################################################


* checking for file ‘topdownrdata/DESCRIPTION’ ... OK
* preparing ‘topdownrdata’:
* checking DESCRIPTION meta-information ... OK
* checking for LF line-endings in source and make files and shell scripts
* checking for empty or unneeded directories
* building ‘topdownrdata_1.15.0.tar.gz’
Warning in utils::tar(filepath, pkgname, compression = compression, compression_level = 9L,  :
  storing paths of more than 100 bytes is not portable:
  ‘topdownrdata/inst/extdata/20170629_myo/experiments/myo_1211_ETDReagentTarget_1e6_1.experiments.csv.gz’
Warning in utils::tar(filepath, pkgname, compression = compression, compression_level = 9L,  :
  storing paths of more than 100 bytes is not portable:
  ‘topdownrdata/inst/extdata/20170629_myo/experiments/myo_1211_ETDReagentTarget_1e6_2.experiments.csv.gz’
Warning in utils::tar(filepath, pkgname, compression = compression, compression_level = 9L,  :
  storing paths of more than 100 bytes is not portable:
  ‘topdownrdata/inst/extdata/20170629_myo/experiments/myo_1211_ETDReagentTarget_1e7_1.experiments.csv.gz’
Warning in utils::tar(filepath, pkgname, compression = compression, compression_level = 9L,  :
  storing paths of more than 100 bytes is not portable:
  ‘topdownrdata/inst/extdata/20170629_myo/experiments/myo_1211_ETDReagentTarget_1e7_2.experiments.csv.gz’
Warning in utils::tar(filepath, pkgname, compression = compression, compression_level = 9L,  :
  storing paths of more than 100 bytes is not portable:
  ‘topdownrdata/inst/extdata/20170629_myo/experiments/myo_1211_ETDReagentTarget_5e6_1.experiments.csv.gz’
Warning in utils::tar(filepath, pkgname, compression = compression, compression_level = 9L,  :
  storing paths of more than 100 bytes is not portable:
  ‘topdownrdata/inst/extdata/20170629_myo/experiments/myo_1211_ETDReagentTarget_5e6_2.experiments.csv.gz’
Warning in utils::tar(filepath, pkgname, compression = compression, compression_level = 9L,  :
  storing paths of more than 100 bytes is not portable:
  ‘topdownrdata/inst/extdata/20170705_h3_3/experiments/h3_3_563_ETDReagentTarget_1e6_1.experiments.csv.gz’
Warning in utils::tar(filepath, pkgname, compression = compression, compression_level = 9L,  :
  storing paths of more than 100 bytes is not portable:
  ‘topdownrdata/inst/extdata/20170705_h3_3/experiments/h3_3_563_ETDReagentTarget_1e6_2.experiments.csv.gz’
Warning in utils::tar(filepath, pkgname, compression = compression, compression_level = 9L,  :
  storing paths of more than 100 bytes is not portable:
  ‘topdownrdata/inst/extdata/20170705_h3_3/experiments/h3_3_563_ETDReagentTarget_1e7_1.experiments.csv.gz’
Warning in utils::tar(filepath, pkgname, compression = compression, compression_level = 9L,  :
  storing paths of more than 100 bytes is not portable:
  ‘topdownrdata/inst/extdata/20170705_h3_3/experiments/h3_3_563_ETDReagentTarget_1e7_2.experiments.csv.gz’
Warning in utils::tar(filepath, pkgname, compression = compression, compression_level = 9L,  :
  storing paths of more than 100 bytes is not portable:
  ‘topdownrdata/inst/extdata/20170705_h3_3/experiments/h3_3_563_ETDReagentTarget_5e6_1.experiments.csv.gz’
Warning in utils::tar(filepath, pkgname, compression = compression, compression_level = 9L,  :
  storing paths of more than 100 bytes is not portable:
  ‘topdownrdata/inst/extdata/20170705_h3_3/experiments/h3_3_563_ETDReagentTarget_5e6_2.experiments.csv.gz’
Warning in utils::tar(filepath, pkgname, compression = compression, compression_level = 9L,  :
  storing paths of more than 100 bytes is not portable:
  ‘topdownrdata/inst/extdata/20170705_h3_3/experiments/h3_3_691_ETDReagentTarget_1e6_1.experiments.csv.gz’
Warning in utils::tar(filepath, pkgname, compression = compression, compression_level = 9L,  :
  storing paths of more than 100 bytes is not portable:
  ‘topdownrdata/inst/extdata/20170705_h3_3/experiments/h3_3_691_ETDReagentTarget_1e6_2.experiments.csv.gz’
Warning in utils::tar(filepath, pkgname, compression = compression, compression_level = 9L,  :
  storing paths of more than 100 bytes is not portable:
  ‘topdownrdata/inst/extdata/20170705_h3_3/experiments/h3_3_691_ETDReagentTarget_1e7_1.experiments.csv.gz’
Warning in utils::tar(filepath, pkgname, compression = compression, compression_level = 9L,  :
  storing paths of more than 100 bytes is not portable:
  ‘topdownrdata/inst/extdata/20170705_h3_3/experiments/h3_3_691_ETDReagentTarget_1e7_2.experiments.csv.gz’
Warning in utils::tar(filepath, pkgname, compression = compression, compression_level = 9L,  :
  storing paths of more than 100 bytes is not portable:
  ‘topdownrdata/inst/extdata/20170705_h3_3/experiments/h3_3_691_ETDReagentTarget_5e6_1.experiments.csv.gz’
Warning in utils::tar(filepath, pkgname, compression = compression, compression_level = 9L,  :
  storing paths of more than 100 bytes is not portable:
  ‘topdownrdata/inst/extdata/20170705_h3_3/experiments/h3_3_691_ETDReagentTarget_5e6_2.experiments.csv.gz’
Warning in utils::tar(filepath, pkgname, compression = compression, compression_level = 9L,  :
  storing paths of more than 100 bytes is not portable:
  ‘topdownrdata/inst/extdata/20170705_h3_3/experiments/h3_3_894_ETDReagentTarget_1e6_1.experiments.csv.gz’
Warning in utils::tar(filepath, pkgname, compression = compression, compression_level = 9L,  :
  storing paths of more than 100 bytes is not portable:
  ‘topdownrdata/inst/extdata/20170705_h3_3/experiments/h3_3_894_ETDReagentTarget_1e6_2.experiments.csv.gz’
Warning in utils::tar(filepath, pkgname, compression = compression, compression_level = 9L,  :
  storing paths of more than 100 bytes is not portable:
  ‘topdownrdata/inst/extdata/20170705_h3_3/experiments/h3_3_894_ETDReagentTarget_1e7_1.experiments.csv.gz’
Warning in utils::tar(filepath, pkgname, compression = compression, compression_level = 9L,  :
  storing paths of more than 100 bytes is not portable:
  ‘topdownrdata/inst/extdata/20170705_h3_3/experiments/h3_3_894_ETDReagentTarget_1e7_2.experiments.csv.gz’
Warning in utils::tar(filepath, pkgname, compression = compression, compression_level = 9L,  :
  storing paths of more than 100 bytes is not portable:
  ‘topdownrdata/inst/extdata/20170705_h3_3/experiments/h3_3_894_ETDReagentTarget_5e6_1.experiments.csv.gz’
Warning in utils::tar(filepath, pkgname, compression = compression, compression_level = 9L,  :
  storing paths of more than 100 bytes is not portable:
  ‘topdownrdata/inst/extdata/20170705_h3_3/experiments/h3_3_894_ETDReagentTarget_5e6_2.experiments.csv.gz’