Back to Build/check report for BioC 3.15 experimental data
ABCDEFGHIJKLMNOPQRS[T]UVWXYZ

This page was generated on 2021-12-02 17:50:01 -0500 (Thu, 02 Dec 2021).

BUILD results for tofsimsData on nebbiolo2

To the developers/maintainers of the tofsimsData package:
Make sure to use the following settings in order to reproduce any error or warning you see on this page.

raw results

Package 389/404HostnameOS / ArchINSTALLBUILDCHECK
tofsimsData 1.23.0  (landing page)
Lorenz Gerber
Snapshot Date: 2021-12-02 07:30:02 -0500 (Thu, 02 Dec 2021)
git_url: https://git.bioconductor.org/packages/tofsimsData
git_branch: master
git_last_commit: 982209d
git_last_commit_date: 2021-10-26 12:18:30 -0500 (Tue, 26 Oct 2021)
nebbiolo2Linux (Ubuntu 20.04.3 LTS) / x86_64  OK    OK    WARNINGS  UNNEEDED, same version is already published

Summary

Package: tofsimsData
Version: 1.23.0
Command: /home/biocbuild/bbs-3.15-data-experiment/R/bin/R CMD build --keep-empty-dirs --no-resave-data tofsimsData
StartedAt: 2021-12-02 13:35:16 -0500 (Thu, 02 Dec 2021)
EndedAt: 2021-12-02 13:35:22 -0500 (Thu, 02 Dec 2021)
EllapsedTime: 5.5 seconds
RetCode: 0
Status:   OK  
PackageFile: tofsimsData_1.23.0.tar.gz
PackageFileSize: 10.5 MiB

Command output

##############################################################################
##############################################################################
###
### Running command:
###
###   /home/biocbuild/bbs-3.15-data-experiment/R/bin/R CMD build --keep-empty-dirs --no-resave-data tofsimsData
###
##############################################################################
##############################################################################


* checking for file ‘tofsimsData/DESCRIPTION’ ... OK
* preparing ‘tofsimsData’:
* checking DESCRIPTION meta-information ... OK
* checking for LF line-endings in source and make files and shell scripts
* checking for empty or unneeded directories
* looking to see if a ‘data/datalist’ file should be added
* building ‘tofsimsData_1.23.0.tar.gz’