Back to Build/check report for BioC 3.15 experimental data
ABCDEFGHIJKLMNOPQRS[T]UVWXYZ

This page was generated on 2021-12-05 17:50:13 -0500 (Sun, 05 Dec 2021).

BUILD results for tissueTreg on nebbiolo2

To the developers/maintainers of the tissueTreg package:
Make sure to use the following settings in order to reproduce any error or warning you see on this page.

raw results

Package 387/404HostnameOS / ArchINSTALLBUILDCHECK
tissueTreg 1.15.0  (landing page)
Charles Imbusch
Snapshot Date: 2021-12-05 07:30:02 -0500 (Sun, 05 Dec 2021)
git_url: https://git.bioconductor.org/packages/tissueTreg
git_branch: master
git_last_commit: 333d047
git_last_commit_date: 2021-10-26 12:31:41 -0500 (Tue, 26 Oct 2021)
nebbiolo2Linux (Ubuntu 20.04.3 LTS) / x86_64  OK    OK    OK  UNNEEDED, same version is already published

Summary

Package: tissueTreg
Version: 1.15.0
Command: /home/biocbuild/bbs-3.15-data-experiment/R/bin/R CMD build --keep-empty-dirs --no-resave-data tissueTreg
StartedAt: 2021-12-05 13:34:26 -0500 (Sun, 05 Dec 2021)
EndedAt: 2021-12-05 13:35:46 -0500 (Sun, 05 Dec 2021)
EllapsedTime: 79.5 seconds
RetCode: 0
Status:   OK  
PackageFile: tissueTreg_1.15.0.tar.gz
PackageFileSize: 569.6 KiB

Command output

##############################################################################
##############################################################################
###
### Running command:
###
###   /home/biocbuild/bbs-3.15-data-experiment/R/bin/R CMD build --keep-empty-dirs --no-resave-data tissueTreg
###
##############################################################################
##############################################################################


* checking for file ‘tissueTreg/DESCRIPTION’ ... OK
* preparing ‘tissueTreg’:
* checking DESCRIPTION meta-information ... OK
* installing the package to build vignettes
* creating vignettes ... OK
* checking for LF line-endings in source and make files and shell scripts
* checking for empty or unneeded directories
Omitted ‘LazyData’ from DESCRIPTION
* building ‘tissueTreg_1.15.0.tar.gz’