Index of /checkResults/devel/data-experiment-LATEST/tinesath1cdf/raw-results

[ICO]NameLast modifiedSizeDescription

[DIR]Parent Directory  -  
[   ]info.dcf06-Dec-2021 07:50 269  
[DIR]nebbiolo2/06-Dec-2021 07:50 -