Back to Build/check report for BioC 3.14 experimental data
ABCDEFGHIJKLMNOPQRS[T]UVWXYZ

This page was generated on 2021-10-23 15:51:46 -0400 (Sat, 23 Oct 2021).

All results for package tartare

To the developers/maintainers of the tartare package:
Make sure to use the following settings in order to reproduce any error or warning you see on this page.

raw results

Package 375/408HostnameOS / ArchINSTALLBUILDCHECK
tartare 1.7.2  (landing page)
Christian Panse
Snapshot Date: 2021-10-23 09:30:01 -0400 (Sat, 23 Oct 2021)
git_url: https://git.bioconductor.org/packages/tartare
git_branch: master
git_last_commit: 4f3431e
git_last_commit_date: 2021-10-14 03:27:01 -0400 (Thu, 14 Oct 2021)
nebbiolo2Linux (Ubuntu 20.04.2 LTS) / x86_64  OK    OK    OK  UNNEEDED, same version is already published