Back to Build/check report for BioC 3.15 experimental data
ABCDEFGHIJKLMNOPQR[S]TUVWXYZ

This page was generated on 2021-12-05 17:50:13 -0500 (Sun, 05 Dec 2021).

CHECK results for stemHypoxia on nebbiolo2

To the developers/maintainers of the stemHypoxia package:
Make sure to use the following settings in order to reproduce any error or warning you see on this page.

raw results

Package 362/404HostnameOS / ArchINSTALLBUILDCHECK
stemHypoxia 1.31.0  (landing page)
Cristobal Fresno
Snapshot Date: 2021-12-05 07:30:02 -0500 (Sun, 05 Dec 2021)
git_url: https://git.bioconductor.org/packages/stemHypoxia
git_branch: master
git_last_commit: c8df36b
git_last_commit_date: 2021-10-26 11:57:42 -0500 (Tue, 26 Oct 2021)
nebbiolo2Linux (Ubuntu 20.04.3 LTS) / x86_64  OK    OK    OK  UNNEEDED, same version is already published

Summary

Package: stemHypoxia
Version: 1.31.0
Command: /home/biocbuild/bbs-3.15-data-experiment/R/bin/R CMD check --install=check:stemHypoxia.install-out.txt --library=/home/biocbuild/bbs-3.15-data-experiment/R/library --no-vignettes --timings stemHypoxia_1.31.0.tar.gz
StartedAt: 2021-12-05 14:08:14 -0500 (Sun, 05 Dec 2021)
EndedAt: 2021-12-05 14:08:24 -0500 (Sun, 05 Dec 2021)
EllapsedTime: 10.4 seconds
RetCode: 0
Status:   OK  
CheckDir: stemHypoxia.Rcheck
Warnings: 0

Command output

##############################################################################
##############################################################################
###
### Running command:
###
###   /home/biocbuild/bbs-3.15-data-experiment/R/bin/R CMD check --install=check:stemHypoxia.install-out.txt --library=/home/biocbuild/bbs-3.15-data-experiment/R/library --no-vignettes --timings stemHypoxia_1.31.0.tar.gz
###
##############################################################################
##############################################################################


* using log directory ‘/home/biocbuild/bbs-3.15-data-experiment/meat/stemHypoxia.Rcheck’
* using R Under development (unstable) (2021-11-16 r81199)
* using platform: x86_64-pc-linux-gnu (64-bit)
* using session charset: UTF-8
* using option ‘--no-vignettes’
* checking for file ‘stemHypoxia/DESCRIPTION’ ... OK
* checking extension type ... Package
* this is package ‘stemHypoxia’ version ‘1.31.0’
* checking package namespace information ... OK
* checking package dependencies ... OK
* checking if this is a source package ... OK
* checking if there is a namespace ... OK
* checking for hidden files and directories ... OK
* checking for portable file names ... OK
* checking for sufficient/correct file permissions ... OK
* checking whether package ‘stemHypoxia’ can be installed ... OK
* checking installed package size ... OK
* checking package directory ... OK
* checking DESCRIPTION meta-information ... OK
* checking top-level files ... OK
* checking for left-over files ... OK
* checking index information ... OK
* checking package subdirectories ... OK
* checking whether the package can be loaded ... OK
* checking whether the package can be loaded with stated dependencies ... OK
* checking whether the package can be unloaded cleanly ... OK
* checking whether the namespace can be loaded with stated dependencies ... OK
* checking whether the namespace can be unloaded cleanly ... OK
* checking Rd files ... OK
* checking Rd metadata ... OK
* checking Rd cross-references ... OK
* checking for missing documentation entries ... OK
* checking for code/documentation mismatches ... OK
* checking Rd \usage sections ... OK
* checking Rd contents ... OK
* checking for unstated dependencies in examples ... OK
* checking contents of ‘data’ directory ... OK
* checking data for non-ASCII characters ... OK
* checking data for ASCII and uncompressed saves ... OK
* checking examples ... OK
* checking PDF version of manual ... OK
* DONE

Status: OK


Installation output

stemHypoxia.Rcheck/00install.out

##############################################################################
##############################################################################
###
### Running command:
###
###   /home/biocbuild/bbs-3.15-data-experiment/R/bin/R CMD INSTALL stemHypoxia
###
##############################################################################
##############################################################################


* installing to library ‘/home/biocbuild/bbs-3.15-data-experiment/R/library’
* installing *source* package ‘stemHypoxia’ ...
** using staged installation
** data
** help
*** installing help indices
** building package indices
** testing if installed package can be loaded from temporary location
** testing if installed package can be loaded from final location
** testing if installed package keeps a record of temporary installation path
* DONE (stemHypoxia)

Tests output


Example timings

stemHypoxia.Rcheck/stemHypoxia-Ex.timings

nameusersystemelapsed
M0.1940.0120.206
design0.1870.0040.191