Back to Build/check report for BioC 3.15 experimental data
ABCDEFGHIJKLMNOPQR[S]TUVWXYZ

This page was generated on 2021-10-26 15:49:12 -0400 (Tue, 26 Oct 2021).

All results for package spqnData

To the developers/maintainers of the spqnData package:
Make sure to use the following settings in order to reproduce any error or warning you see on this page.

raw results

Package 360/403HostnameOS / ArchINSTALLBUILDCHECK
spqnData 1.5.0  (landing page)
Yi Wang
Snapshot Date: 2021-10-26 09:30:01 -0400 (Tue, 26 Oct 2021)
git_url: https://git.bioconductor.org/packages/spqnData
git_branch: master
git_last_commit: 3ae5e74
git_last_commit_date: 2021-05-19 12:10:07 -0400 (Wed, 19 May 2021)
nebbiolo1Linux (Ubuntu 20.04.2 LTS) / x86_64  OK    ERROR  skipped