Back to Build/check report for BioC 3.14 experimental data
ABCDEFGHIJKLMNOPQR[S]TUVWXYZ

This page was generated on 2021-10-21 15:52:03 -0400 (Thu, 21 Oct 2021).

BUILD results for spatialLIBD on nebbiolo2

To the developers/maintainers of the spatialLIBD package:
Make sure to use the following settings in order to reproduce any error or warning you see on this page.

raw results

Package 359/406HostnameOS / ArchINSTALLBUILDCHECK
spatialLIBD 1.5.3  (landing page)
Leonardo Collado-Torres
Snapshot Date: 2021-10-21 09:30:01 -0400 (Thu, 21 Oct 2021)
git_url: https://git.bioconductor.org/packages/spatialLIBD
git_branch: master
git_last_commit: f3667b6
git_last_commit_date: 2021-08-09 20:17:38 -0400 (Mon, 09 Aug 2021)
nebbiolo2Linux (Ubuntu 20.04.2 LTS) / x86_64  OK    OK    OK  UNNEEDED, same version is already published

Summary

Package: spatialLIBD
Version: 1.5.3
Command: /home/biocbuild/bbs-3.14-bioc/R/bin/R CMD build --keep-empty-dirs --no-resave-data spatialLIBD
StartedAt: 2021-10-21 11:36:18 -0400 (Thu, 21 Oct 2021)
EndedAt: 2021-10-21 11:38:53 -0400 (Thu, 21 Oct 2021)
EllapsedTime: 155.4 seconds
RetCode: 0
Status:   OK  
PackageFile: spatialLIBD_1.5.3.tar.gz
PackageFileSize: 7.885 MiB

Command output

##############################################################################
##############################################################################
###
### Running command:
###
###   /home/biocbuild/bbs-3.14-bioc/R/bin/R CMD build --keep-empty-dirs --no-resave-data spatialLIBD
###
##############################################################################
##############################################################################


* checking for file ‘spatialLIBD/DESCRIPTION’ ... OK
* preparing ‘spatialLIBD’:
* checking DESCRIPTION meta-information ... OK
* installing the package to build vignettes
* creating vignettes ... OK
* checking for LF line-endings in source and make files and shell scripts
* checking for empty or unneeded directories
* building ‘spatialLIBD_1.5.3.tar.gz’