Index of /checkResults/devel/data-experiment-LATEST/simpIntLists/raw-results/nebbiolo2

[ICO]NameLast modifiedSizeDescription

[DIR]Parent Directory  -  
[TXT]buildsrc-out.txt25-Jan-2022 22:37 900  
[   ]buildsrc-summary.dcf25-Jan-2022 22:37 442  
[TXT]checksrc-out.txt25-Jan-2022 22:37 7.8K 
[   ]checksrc-summary.dcf25-Jan-2022 22:37 471  
[TXT]install-out.txt25-Jan-2022 22:37 1.0K 
[   ]install-summary.dcf25-Jan-2022 22:37 279