Back to Build/check report for BioC 3.14 experimental data
ABCDEFGHIJKLMNOPQR[S]TUVWXYZ

This page was generated on 2021-10-23 15:51:47 -0400 (Sat, 23 Oct 2021).

BUILD results for signatureSearchData on nebbiolo2

To the developers/maintainers of the signatureSearchData package:
Make sure to use the following settings in order to reproduce any error or warning you see on this page.

raw results

Package 349/408HostnameOS / ArchINSTALLBUILDCHECK
signatureSearchData 1.7.0  (landing page)
Yuzhu Duan
Snapshot Date: 2021-10-23 09:30:01 -0400 (Sat, 23 Oct 2021)
git_url: https://git.bioconductor.org/packages/signatureSearchData
git_branch: master
git_last_commit: 6e1c605
git_last_commit_date: 2021-05-19 12:09:28 -0400 (Wed, 19 May 2021)
nebbiolo2Linux (Ubuntu 20.04.2 LTS) / x86_64  OK    OK    OK  UNNEEDED, same version is already published

Summary

Package: signatureSearchData
Version: 1.7.0
Command: /home/biocbuild/bbs-3.14-bioc/R/bin/R CMD build --keep-empty-dirs --no-resave-data signatureSearchData
StartedAt: 2021-10-23 11:35:57 -0400 (Sat, 23 Oct 2021)
EndedAt: 2021-10-23 11:36:42 -0400 (Sat, 23 Oct 2021)
EllapsedTime: 44.6 seconds
RetCode: 0
Status:   OK  
PackageFile: signatureSearchData_1.7.0.tar.gz
PackageFileSize: 641.3 KiB

Command output

##############################################################################
##############################################################################
###
### Running command:
###
###   /home/biocbuild/bbs-3.14-bioc/R/bin/R CMD build --keep-empty-dirs --no-resave-data signatureSearchData
###
##############################################################################
##############################################################################


* checking for file ‘signatureSearchData/DESCRIPTION’ ... OK
* preparing ‘signatureSearchData’:
* checking DESCRIPTION meta-information ... OK
* installing the package to build vignettes
* creating vignettes ... OK
* checking for LF line-endings in source and make files and shell scripts
* checking for empty or unneeded directories
* building ‘signatureSearchData_1.7.0.tar.gz’