Back to Build/check report for BioC 3.14 experimental data
ABCDEFGHIJKLMNOPQR[S]TUVWXYZ

This page was generated on 2021-10-23 15:51:46 -0400 (Sat, 23 Oct 2021).

All results for package signatureSearchData

To the developers/maintainers of the signatureSearchData package:
Make sure to use the following settings in order to reproduce any error or warning you see on this page.

raw results

Package 349/408HostnameOS / ArchINSTALLBUILDCHECK
signatureSearchData 1.7.0  (landing page)
Yuzhu Duan
Snapshot Date: 2021-10-23 09:30:01 -0400 (Sat, 23 Oct 2021)
git_url: https://git.bioconductor.org/packages/signatureSearchData
git_branch: master
git_last_commit: 6e1c605
git_last_commit_date: 2021-05-19 12:09:28 -0400 (Wed, 19 May 2021)
nebbiolo2Linux (Ubuntu 20.04.2 LTS) / x86_64  OK    OK    OK  UNNEEDED, same version is already published