Back to Build/check report for BioC 3.14 experimental data
ABCDEFGHIJKLMNOPQR[S]TUVWXYZ

This page was generated on 2021-10-23 15:51:47 -0400 (Sat, 23 Oct 2021).

BUILD results for seq2pathway.data on nebbiolo2

To the developers/maintainers of the seq2pathway.data package:
Make sure to use the following settings in order to reproduce any error or warning you see on this page.

raw results

Package 342/408HostnameOS / ArchINSTALLBUILDCHECK
seq2pathway.data 1.25.0  (landing page)
Arjun Kinstlick
Snapshot Date: 2021-10-23 09:30:01 -0400 (Sat, 23 Oct 2021)
git_url: https://git.bioconductor.org/packages/seq2pathway.data
git_branch: master
git_last_commit: aa61b0a
git_last_commit_date: 2021-05-19 11:49:31 -0400 (Wed, 19 May 2021)
nebbiolo2Linux (Ubuntu 20.04.2 LTS) / x86_64  OK    OK    WARNINGS  UNNEEDED, same version is already published

Summary

Package: seq2pathway.data
Version: 1.25.0
Command: /home/biocbuild/bbs-3.14-bioc/R/bin/R CMD build --keep-empty-dirs --no-resave-data seq2pathway.data
StartedAt: 2021-10-23 11:35:22 -0400 (Sat, 23 Oct 2021)
EndedAt: 2021-10-23 11:36:28 -0400 (Sat, 23 Oct 2021)
EllapsedTime: 65.5 seconds
RetCode: 0
Status:   OK  
PackageFile: seq2pathway.data_1.25.0.tar.gz
PackageFileSize: 97.27 MiB

Command output

##############################################################################
##############################################################################
###
### Running command:
###
###   /home/biocbuild/bbs-3.14-bioc/R/bin/R CMD build --keep-empty-dirs --no-resave-data seq2pathway.data
###
##############################################################################
##############################################################################


* checking for file ‘seq2pathway.data/DESCRIPTION’ ... OK
* preparing ‘seq2pathway.data’:
* checking DESCRIPTION meta-information ... OK
* checking whether ‘INDEX’ is up-to-date ... NO
* use ‘--force’ to remove the existing ‘INDEX’
* installing the package to build vignettes
* creating vignettes ... OK
* checking for LF line-endings in source and make files and shell scripts
* checking for empty or unneeded directories
WARNING: Removing directory ‘seq2pathway.data/Meta’ which should only
  occur in an installed package
WARNING: Removing directory ‘seq2pathway.data/help’ which should only
  occur in an installed package
WARNING: Removing directory ‘seq2pathway.data/html’ which should only
  occur in an installed package
* looking to see if a ‘data/datalist’ file should be added
* building ‘seq2pathway.data_1.25.0.tar.gz’