Back to Build/check report for BioC 3.14 experimental data
ABCDEFGHIJKLMNOPQR[S]TUVWXYZ

This page was generated on 2021-09-18 15:51:40 -0400 (Sat, 18 Sep 2021).

CHECK results for scpdata on nebbiolo2

To the developers/maintainers of the scpdata package:
Make sure to use the following settings in order to reproduce any error or warning you see on this page.

raw results

Package 333/401HostnameOS / ArchINSTALLBUILDCHECK
scpdata 1.1.0  (landing page)
Christophe Vanderaa
Snapshot Date: 2021-09-18 09:30:01 -0400 (Sat, 18 Sep 2021)
git_url: https://git.bioconductor.org/packages/scpdata
git_branch: master
git_last_commit: a82033b
git_last_commit_date: 2021-05-19 12:11:35 -0400 (Wed, 19 May 2021)
nebbiolo2Linux (Ubuntu 20.04.2 LTS) / x86_64  OK    OK    OK  UNNEEDED, same version is already published

Summary

Package: scpdata
Version: 1.1.0
Command: /home/biocbuild/bbs-3.14-bioc/R/bin/R CMD check --install=check:scpdata.install-out.txt --library=/home/biocbuild/bbs-3.14-bioc/R/library --no-vignettes --timings scpdata_1.1.0.tar.gz
StartedAt: 2021-09-18 12:36:04 -0400 (Sat, 18 Sep 2021)
EndedAt: 2021-09-18 12:41:25 -0400 (Sat, 18 Sep 2021)
EllapsedTime: 320.9 seconds
RetCode: 0
Status:   OK  
CheckDir: scpdata.Rcheck
Warnings: 0

Command output

##############################################################################
##############################################################################
###
### Running command:
###
###   /home/biocbuild/bbs-3.14-bioc/R/bin/R CMD check --install=check:scpdata.install-out.txt --library=/home/biocbuild/bbs-3.14-bioc/R/library --no-vignettes --timings scpdata_1.1.0.tar.gz
###
##############################################################################
##############################################################################


* using log directory ‘/home/biocbuild/bbs-3.14-data-experiment/meat/scpdata.Rcheck’
* using R version 4.1.1 (2021-08-10)
* using platform: x86_64-pc-linux-gnu (64-bit)
* using session charset: UTF-8
* using option ‘--no-vignettes’
* checking for file ‘scpdata/DESCRIPTION’ ... OK
* checking extension type ... Package
* this is package ‘scpdata’ version ‘1.1.0’
* package encoding: UTF-8
* checking package namespace information ... OK
* checking package dependencies ... OK
* checking if this is a source package ... OK
* checking if there is a namespace ... OK
* checking for hidden files and directories ... OK
* checking for portable file names ... OK
* checking for sufficient/correct file permissions ... OK
* checking whether package ‘scpdata’ can be installed ... OK
* checking installed package size ... OK
* checking package directory ... OK
* checking ‘build’ directory ... OK
* checking DESCRIPTION meta-information ... OK
* checking top-level files ... OK
* checking for left-over files ... OK
* checking index information ... OK
* checking package subdirectories ... OK
* checking R files for non-ASCII characters ... OK
* checking R files for syntax errors ... OK
* checking whether the package can be loaded ... OK
* checking whether the package can be loaded with stated dependencies ... OK
* checking whether the package can be unloaded cleanly ... OK
* checking whether the namespace can be loaded with stated dependencies ... OK
* checking whether the namespace can be unloaded cleanly ... OK
* checking dependencies in R code ... OK
* checking S3 generic/method consistency ... OK
* checking replacement functions ... OK
* checking foreign function calls ... OK
* checking R code for possible problems ... OK
* checking Rd files ... OK
* checking Rd metadata ... OK
* checking Rd cross-references ... OK
* checking for missing documentation entries ... OK
* checking for code/documentation mismatches ... OK
* checking Rd \usage sections ... OK
* checking Rd contents ... OK
* checking for unstated dependencies in examples ... OK
* checking files in ‘vignettes’ ... OK
* checking examples ... OK
Examples with CPU (user + system) or elapsed time > 5s
                 user system elapsed
specht2019v3   32.714  0.660  33.510
scpdata        30.612  0.648  32.101
specht2019v2   12.803  0.292  13.227
dou2019_mouse   8.893  0.260   9.253
liang2020_hela  6.515  0.216   6.867
* checking for unstated dependencies in ‘tests’ ... OK
* checking tests ...
  Running ‘testthat.R’
 OK
* checking for unstated dependencies in vignettes ... OK
* checking package vignettes in ‘inst/doc’ ... OK
* checking running R code from vignettes ... SKIPPED
* checking re-building of vignette outputs ... SKIPPED
* checking PDF version of manual ... OK
* DONE

Status: OK


Installation output

scpdata.Rcheck/00install.out

##############################################################################
##############################################################################
###
### Running command:
###
###   /home/biocbuild/bbs-3.14-bioc/R/bin/R CMD INSTALL scpdata
###
##############################################################################
##############################################################################


* installing to library ‘/home/biocbuild/bbs-3.14-bioc/R/library’
* installing *source* package ‘scpdata’ ...
** using staged installation
** R
** inst
** byte-compile and prepare package for lazy loading
** help
*** installing help indices
** building package indices
** installing vignettes
** testing if installed package can be loaded from temporary location
snapshotDate(): 2021-09-13
** testing if installed package can be loaded from final location
snapshotDate(): 2021-09-13
** testing if installed package keeps a record of temporary installation path
* DONE (scpdata)

Tests output

scpdata.Rcheck/tests/testthat.Rout


R version 4.1.1 (2021-08-10) -- "Kick Things"
Copyright (C) 2021 The R Foundation for Statistical Computing
Platform: x86_64-pc-linux-gnu (64-bit)

R is free software and comes with ABSOLUTELY NO WARRANTY.
You are welcome to redistribute it under certain conditions.
Type 'license()' or 'licence()' for distribution details.

R is a collaborative project with many contributors.
Type 'contributors()' for more information and
'citation()' on how to cite R or R packages in publications.

Type 'demo()' for some demos, 'help()' for on-line help, or
'help.start()' for an HTML browser interface to help.
Type 'q()' to quit R.

> library(testthat)
> library(scpdata)
Loading required package: QFeatures
Loading required package: MultiAssayExperiment
Loading required package: SummarizedExperiment
Loading required package: MatrixGenerics
Loading required package: matrixStats

Attaching package: 'MatrixGenerics'

The following objects are masked from 'package:matrixStats':

    colAlls, colAnyNAs, colAnys, colAvgsPerRowSet, colCollapse,
    colCounts, colCummaxs, colCummins, colCumprods, colCumsums,
    colDiffs, colIQRDiffs, colIQRs, colLogSumExps, colMadDiffs,
    colMads, colMaxs, colMeans2, colMedians, colMins, colOrderStats,
    colProds, colQuantiles, colRanges, colRanks, colSdDiffs, colSds,
    colSums2, colTabulates, colVarDiffs, colVars, colWeightedMads,
    colWeightedMeans, colWeightedMedians, colWeightedSds,
    colWeightedVars, rowAlls, rowAnyNAs, rowAnys, rowAvgsPerColSet,
    rowCollapse, rowCounts, rowCummaxs, rowCummins, rowCumprods,
    rowCumsums, rowDiffs, rowIQRDiffs, rowIQRs, rowLogSumExps,
    rowMadDiffs, rowMads, rowMaxs, rowMeans2, rowMedians, rowMins,
    rowOrderStats, rowProds, rowQuantiles, rowRanges, rowRanks,
    rowSdDiffs, rowSds, rowSums2, rowTabulates, rowVarDiffs, rowVars,
    rowWeightedMads, rowWeightedMeans, rowWeightedMedians,
    rowWeightedSds, rowWeightedVars

Loading required package: GenomicRanges
Loading required package: stats4
Loading required package: BiocGenerics

Attaching package: 'BiocGenerics'

The following objects are masked from 'package:stats':

    IQR, mad, sd, var, xtabs

The following objects are masked from 'package:base':

    Filter, Find, Map, Position, Reduce, anyDuplicated, append,
    as.data.frame, basename, cbind, colnames, dirname, do.call,
    duplicated, eval, evalq, get, grep, grepl, intersect, is.unsorted,
    lapply, mapply, match, mget, order, paste, pmax, pmax.int, pmin,
    pmin.int, rank, rbind, rownames, sapply, setdiff, sort, table,
    tapply, union, unique, unsplit, which.max, which.min

Loading required package: S4Vectors

Attaching package: 'S4Vectors'

The following objects are masked from 'package:base':

    I, expand.grid, unname

Loading required package: IRanges
Loading required package: GenomeInfoDb
Loading required package: Biobase
Welcome to Bioconductor

    Vignettes contain introductory material; view with
    'browseVignettes()'. To cite Bioconductor, see
    'citation("Biobase")', and for packages 'citation("pkgname")'.


Attaching package: 'Biobase'

The following object is masked from 'package:MatrixGenerics':

    rowMedians

The following objects are masked from 'package:matrixStats':

    anyMissing, rowMedians


Attaching package: 'QFeatures'

The following object is masked from 'package:MultiAssayExperiment':

    longFormat

The following object is masked from 'package:base':

    sweep

Loading required package: ExperimentHub
Loading required package: AnnotationHub
Loading required package: BiocFileCache
Loading required package: dbplyr

Attaching package: 'AnnotationHub'

The following object is masked from 'package:Biobase':

    cache

snapshotDate(): 2021-09-13

This is scpdata version 1.1.0.
Use 'scpdata()' to list available data sets.
> 
> test_check("scpdata")
[ FAIL 0 | WARN 0 | SKIP 0 | PASS 2 ]
> 
> proc.time()
   user  system elapsed 
 10.872   0.472  12.032 

Example timings

scpdata.Rcheck/scpdata-Ex.timings

nameusersystemelapsed
cong2020AC3.2500.3563.737
dou2019_boosting4.3740.1644.866
dou2019_lysates3.3270.0723.503
dou2019_mouse8.8930.2609.253
liang2020_hela6.5150.2166.867
scpdata30.612 0.64832.101
specht2019v212.803 0.29213.227
specht2019v332.714 0.66033.510
zhu2018MCP1.8870.1682.216
zhu2018NC_hela3.4940.1683.782
zhu2018NC_islets1.9070.0282.039
zhu2018NC_lysates1.8170.0121.942
zhu2019EL2.2430.0682.436