Back to Build/check report for BioC 3.14 experimental data
ABCDEFGHIJKLMNOPQR[S]TUVWXYZ

This page was generated on 2021-07-29 15:51:05 -0400 (Thu, 29 Jul 2021).

All results for package scpdata

To the developers/maintainers of the scpdata package:
Make sure to use the following settings in order to reproduce any error or warning you see on this page.

raw results

Package 330/397HostnameOS / ArchINSTALLBUILDCHECK
scpdata 1.1.0  (landing page)
Christophe Vanderaa
Snapshot Date: 2021-07-29 09:30:02 -0400 (Thu, 29 Jul 2021)
URL: https://git.bioconductor.org/packages/scpdata
Branch: master
Last Commit: a82033b
Last Changed Date: 2021-05-19 12:11:35 -0400 (Wed, 19 May 2021)
nebbiolo2Linux (Ubuntu 20.04.2 LTS) / x86_64  OK    OK    OK  UNNEEDED, same version is already published