Back to Build/check report for BioC 3.15 experimental data
ABCDEFGHIJKLMNOPQR[S]TUVWXYZ

This page was generated on 2021-12-05 17:50:13 -0500 (Sun, 05 Dec 2021).

INSTALL results for scanMiRData on nebbiolo2

To the developers/maintainers of the scanMiRData package:
Make sure to use the following settings in order to reproduce any error or warning you see on this page.

raw results

Package 332/404HostnameOS / ArchINSTALLBUILDCHECK
scanMiRData 1.1.0  (landing page)
Fridolin Gross
Snapshot Date: 2021-12-05 07:30:02 -0500 (Sun, 05 Dec 2021)
git_url: https://git.bioconductor.org/packages/scanMiRData
git_branch: master
git_last_commit: 702b1db
git_last_commit_date: 2021-10-26 12:41:33 -0500 (Tue, 26 Oct 2021)
nebbiolo2Linux (Ubuntu 20.04.3 LTS) / x86_64  OK    OK    OK  UNNEEDED, same version is already published

Summary

Package: scanMiRData
Version: 1.1.0
Command: /home/biocbuild/bbs-3.15-data-experiment/R/bin/R CMD INSTALL scanMiRData
StartedAt: 2021-12-05 13:05:11 -0500 (Sun, 05 Dec 2021)
EndedAt: 2021-12-05 13:05:24 -0500 (Sun, 05 Dec 2021)
EllapsedTime: 12.6 seconds
RetCode: 0
Status:   OK  

Command output

##############################################################################
##############################################################################
###
### Running command:
###
###   /home/biocbuild/bbs-3.15-data-experiment/R/bin/R CMD INSTALL scanMiRData
###
##############################################################################
##############################################################################


* installing to library ‘/home/biocbuild/bbs-3.15-data-experiment/R/library’
* installing *source* package ‘scanMiRData’ ...
** using staged installation
** R
** data
** byte-compile and prepare package for lazy loading
** help
*** installing help indices
** building package indices
** installing vignettes
** testing if installed package can be loaded from temporary location
** testing if installed package can be loaded from final location
** testing if installed package keeps a record of temporary installation path
* DONE (scanMiRData)