Index of /checkResults/devel/data-experiment-LATEST/scTHI.data/raw-results

[ICO]NameLast modifiedSizeDescription

[DIR]Parent Directory  -  
[   ]info.dcf29-Mar-2023 03:51 278  
[DIR]nebbiolo1/29-Mar-2023 03:51 -