Back to Build/check report for BioC 3.16 experimental data
ABCDEFGHIJKLMNOPQR[S]TUVWXYZ

This page was generated on 2022-08-16 14:50:32 -0400 (Tue, 16 Aug 2022).

HostnameOSArch (*)R versionInstalled pkgs
nebbiolo2Linux (Ubuntu 20.04.4 LTS)x86_644.2.1 (2022-06-23) -- "Funny-Looking Kid" 4379
Click on any hostname to see more info about the system (e.g. compilers)      (*) as reported by 'uname -p', except on Windows and Mac OS X

All results for package scTHI.data


To the developers/maintainers of the scTHI.data package:
Make sure to use the following settings in order to reproduce any error or warning you see on this page.

raw results

Package 342/410HostnameOS / ArchINSTALLBUILDCHECK
scTHI.data 1.9.0  (landing page)
Michele Ceccarelli
Snapshot Date: 2022-08-16 07:30:02 -0400 (Tue, 16 Aug 2022)
git_url: https://git.bioconductor.org/packages/scTHI.data
git_branch: master
git_last_commit: f83c321
git_last_commit_date: 2022-04-26 13:33:49 -0400 (Tue, 26 Apr 2022)
nebbiolo2Linux (Ubuntu 20.04.4 LTS) / x86_64  OK    OK    OK  UNNEEDED, same version is already published