Back to Build/check report for BioC 3.15 experimental data
ABCDEFGHIJKLMNOPQ[R]STUVWXYZ

This page was generated on 2021-11-28 18:35:03 -0500 (Sun, 28 Nov 2021).

BUILD results for rheumaticConditionWOLLBOLD on nebbiolo2

To the developers/maintainers of the rheumaticConditionWOLLBOLD package:
Make sure to use the following settings in order to reproduce any error or warning you see on this page.

raw results

Package 305/404HostnameOS / ArchINSTALLBUILDCHECK
rheumaticConditionWOLLBOLD 1.33.0  (landing page)
Alejandro Quiroz-Zarate
Snapshot Date: 2021-11-28 08:30:02 -0500 (Sun, 28 Nov 2021)
git_url: https://git.bioconductor.org/packages/rheumaticConditionWOLLBOLD
git_branch: master
git_last_commit: c247316
git_last_commit_date: 2021-10-26 11:48:05 -0500 (Tue, 26 Oct 2021)
nebbiolo2Linux (Ubuntu 20.04.3 LTS) / x86_64  OK    OK    OK  UNNEEDED, same version is already published

Summary

Package: rheumaticConditionWOLLBOLD
Version: 1.33.0
Command: /home/biocbuild/bbs-3.15-data-experiment/R/bin/R CMD build --keep-empty-dirs --no-resave-data rheumaticConditionWOLLBOLD
StartedAt: 2021-11-28 14:29:29 -0500 (Sun, 28 Nov 2021)
EndedAt: 2021-11-28 14:29:30 -0500 (Sun, 28 Nov 2021)
EllapsedTime: 1.5 seconds
RetCode: 0
Status:   OK  
PackageFile: rheumaticConditionWOLLBOLD_1.33.0.tar.gz
PackageFileSize: 20.76 MiB

Command output

##############################################################################
##############################################################################
###
### Running command:
###
###   /home/biocbuild/bbs-3.15-data-experiment/R/bin/R CMD build --keep-empty-dirs --no-resave-data rheumaticConditionWOLLBOLD
###
##############################################################################
##############################################################################


* checking for file ‘rheumaticConditionWOLLBOLD/DESCRIPTION’ ... OK
* preparing ‘rheumaticConditionWOLLBOLD’:
* checking DESCRIPTION meta-information ... OK
* checking for LF line-endings in source and make files and shell scripts
* checking for empty or unneeded directories
* looking to see if a ‘data/datalist’ file should be added
* building ‘rheumaticConditionWOLLBOLD_1.33.0.tar.gz’