Back to Build/check report for BioC 3.14 experimental data
ABCDEFGHIJKLMNOPQ[R]STUVWXYZ

This page was generated on 2021-10-16 15:51:46 -0400 (Sat, 16 Oct 2021).

INSTALL results for rcellminerData on nebbiolo2

To the developers/maintainers of the rcellminerData package:
Make sure to use the following settings in order to reproduce any error or warning you see on this page.

raw results

Package 298/404HostnameOS / ArchINSTALLBUILDCHECK
rcellminerData 2.15.1  (landing page)
Augustin Luna , Vinodh Rajapakse
Snapshot Date: 2021-10-16 09:30:02 -0400 (Sat, 16 Oct 2021)
git_url: https://git.bioconductor.org/packages/rcellminerData
git_branch: master
git_last_commit: 29f0e09
git_last_commit_date: 2021-07-01 14:02:02 -0400 (Thu, 01 Jul 2021)
nebbiolo2Linux (Ubuntu 20.04.2 LTS) / x86_64  OK    OK    WARNINGS  UNNEEDED, same version is already published

Summary

Package: rcellminerData
Version: 2.15.1
Command: /home/biocbuild/bbs-3.14-bioc/R/bin/R CMD INSTALL rcellminerData
StartedAt: 2021-10-16 11:00:42 -0400 (Sat, 16 Oct 2021)
EndedAt: 2021-10-16 11:00:56 -0400 (Sat, 16 Oct 2021)
EllapsedTime: 13.7 seconds
RetCode: 0
Status:   OK  

Command output

##############################################################################
##############################################################################
###
### Running command:
###
###   /home/biocbuild/bbs-3.14-bioc/R/bin/R CMD INSTALL rcellminerData
###
##############################################################################
##############################################################################


* installing to library ‘/home/biocbuild/bbs-3.14-bioc/R/library’
* installing *source* package ‘rcellminerData’ ...
** using staged installation
** data
*** moving datasets to lazyload DB
** inst
** help
*** installing help indices
** building package indices
** installing vignettes
** testing if installed package can be loaded from temporary location
** testing if installed package can be loaded from final location
** testing if installed package keeps a record of temporary installation path
* DONE (rcellminerData)