Back to Build/check report for BioC 3.14 experimental data
ABCDEFGHIJKLMNOPQ[R]STUVWXYZ

This page was generated on 2021-10-23 15:51:47 -0400 (Sat, 23 Oct 2021).

BUILD results for rcellminerData on nebbiolo2

To the developers/maintainers of the rcellminerData package:
Make sure to use the following settings in order to reproduce any error or warning you see on this page.

raw results

Package 300/408HostnameOS / ArchINSTALLBUILDCHECK
rcellminerData 2.15.2  (landing page)
Augustin Luna , Vinodh Rajapakse
Snapshot Date: 2021-10-23 09:30:01 -0400 (Sat, 23 Oct 2021)
git_url: https://git.bioconductor.org/packages/rcellminerData
git_branch: master
git_last_commit: 1830c27
git_last_commit_date: 2021-10-22 09:13:17 -0400 (Fri, 22 Oct 2021)
nebbiolo2Linux (Ubuntu 20.04.2 LTS) / x86_64  OK    OK    WARNINGS  YES

Summary

Package: rcellminerData
Version: 2.15.2
Command: /home/biocbuild/bbs-3.14-bioc/R/bin/R CMD build --keep-empty-dirs --no-resave-data rcellminerData
StartedAt: 2021-10-23 11:32:24 -0400 (Sat, 23 Oct 2021)
EndedAt: 2021-10-23 11:35:07 -0400 (Sat, 23 Oct 2021)
EllapsedTime: 163.0 seconds
RetCode: 0
Status:   OK  
PackageFile: rcellminerData_2.15.2.tar.gz
PackageFileSize: 232.8 MiB

Command output

##############################################################################
##############################################################################
###
### Running command:
###
###   /home/biocbuild/bbs-3.14-bioc/R/bin/R CMD build --keep-empty-dirs --no-resave-data rcellminerData
###
##############################################################################
##############################################################################


* checking for file ‘rcellminerData/DESCRIPTION’ ... OK
* preparing ‘rcellminerData’:
* checking DESCRIPTION meta-information ... OK
* installing the package to build vignettes
* creating vignettes ... OK
* checking for LF line-endings in source and make files and shell scripts
* checking for empty or unneeded directories
* building ‘rcellminerData_2.15.2.tar.gz’