Back to Build/check report for BioC 3.14 experimental data
ABCDEFGHIJKLMNOPQ[R]STUVWXYZ

This page was generated on 2021-10-23 15:51:46 -0400 (Sat, 23 Oct 2021).

All results for package rcellminerData

To the developers/maintainers of the rcellminerData package:
Make sure to use the following settings in order to reproduce any error or warning you see on this page.

raw results

Package 300/408HostnameOS / ArchINSTALLBUILDCHECK
rcellminerData 2.15.2  (landing page)
Augustin Luna , Vinodh Rajapakse
Snapshot Date: 2021-10-23 09:30:01 -0400 (Sat, 23 Oct 2021)
git_url: https://git.bioconductor.org/packages/rcellminerData
git_branch: master
git_last_commit: 1830c27
git_last_commit_date: 2021-10-22 09:13:17 -0400 (Fri, 22 Oct 2021)
nebbiolo2Linux (Ubuntu 20.04.2 LTS) / x86_64  OK    OK    WARNINGS  YES