Index of /checkResults/devel/data-experiment-LATEST/rRDPData/raw-results/nebbiolo2

[ICO]NameLast modifiedSizeDescription

[DIR]Parent Directory  -  
[TXT]buildsrc-out.txt20-Jan-2022 22:37 749  
[   ]buildsrc-summary.dcf20-Jan-2022 22:37 431  
[TXT]checksrc-out.txt20-Jan-2022 22:37 2.6K 
[   ]checksrc-summary.dcf20-Jan-2022 22:37 449  
[TXT]install-out.txt20-Jan-2022 22:37 890  
[   ]install-summary.dcf20-Jan-2022 22:37 272