Back to Build/check report for BioC 3.14 experimental data
ABCDEFGHIJKLMNOPQ[R]STUVWXYZ

This page was generated on 2021-10-21 15:52:03 -0400 (Thu, 21 Oct 2021).

BUILD results for rRDPData on nebbiolo2

To the developers/maintainers of the rRDPData package:
Make sure to use the following settings in order to reproduce any error or warning you see on this page.

raw results

Package 320/406HostnameOS / ArchINSTALLBUILDCHECK
rRDPData 1.13.0  (landing page)
Michael Hahsler
Snapshot Date: 2021-10-21 09:30:01 -0400 (Thu, 21 Oct 2021)
git_url: https://git.bioconductor.org/packages/rRDPData
git_branch: master
git_last_commit: 70908f8
git_last_commit_date: 2021-05-19 11:48:40 -0400 (Wed, 19 May 2021)
nebbiolo2Linux (Ubuntu 20.04.2 LTS) / x86_64  OK    OK    OK  UNNEEDED, same version is already published

Summary

Package: rRDPData
Version: 1.13.0
Command: /home/biocbuild/bbs-3.14-bioc/R/bin/R CMD build --keep-empty-dirs --no-resave-data rRDPData
StartedAt: 2021-10-21 11:32:54 -0400 (Thu, 21 Oct 2021)
EndedAt: 2021-10-21 11:33:08 -0400 (Thu, 21 Oct 2021)
EllapsedTime: 14.1 seconds
RetCode: 0
Status:   OK  
PackageFile: rRDPData_1.13.0.tar.gz
PackageFileSize: 17.27 MiB

Command output

##############################################################################
##############################################################################
###
### Running command:
###
###   /home/biocbuild/bbs-3.14-bioc/R/bin/R CMD build --keep-empty-dirs --no-resave-data rRDPData
###
##############################################################################
##############################################################################


* checking for file ‘rRDPData/DESCRIPTION’ ... OK
* preparing ‘rRDPData’:
* checking DESCRIPTION meta-information ... OK
* checking for LF line-endings in source and make files and shell scripts
* checking for empty or unneeded directories
* building ‘rRDPData_1.13.0.tar.gz’