Back to Build/check report for BioC 3.14 experimental data
ABCDEFGHIJKLMNOP[Q]RSTUVWXYZ

This page was generated on 2021-10-23 15:51:47 -0400 (Sat, 23 Oct 2021).

BUILD results for qPLEXdata on nebbiolo2

To the developers/maintainers of the qPLEXdata package:
Make sure to use the following settings in order to reproduce any error or warning you see on this page.

raw results

Package 298/408HostnameOS / ArchINSTALLBUILDCHECK
qPLEXdata 1.11.0  (landing page)
Kamal Kishore Developer
Snapshot Date: 2021-10-23 09:30:01 -0400 (Sat, 23 Oct 2021)
git_url: https://git.bioconductor.org/packages/qPLEXdata
git_branch: master
git_last_commit: f901154
git_last_commit_date: 2021-05-19 12:05:12 -0400 (Wed, 19 May 2021)
nebbiolo2Linux (Ubuntu 20.04.2 LTS) / x86_64  OK    OK    WARNINGS  UNNEEDED, same version is already published

Summary

Package: qPLEXdata
Version: 1.11.0
Command: /home/biocbuild/bbs-3.14-bioc/R/bin/R CMD build --keep-empty-dirs --no-resave-data qPLEXdata
StartedAt: 2021-10-23 11:32:23 -0400 (Sat, 23 Oct 2021)
EndedAt: 2021-10-23 11:33:11 -0400 (Sat, 23 Oct 2021)
EllapsedTime: 47.8 seconds
RetCode: 0
Status:   OK  
PackageFile: qPLEXdata_1.11.0.tar.gz
PackageFileSize: 11.7 MiB

Command output

##############################################################################
##############################################################################
###
### Running command:
###
###   /home/biocbuild/bbs-3.14-bioc/R/bin/R CMD build --keep-empty-dirs --no-resave-data qPLEXdata
###
##############################################################################
##############################################################################


* checking for file ‘qPLEXdata/DESCRIPTION’ ... OK
* preparing ‘qPLEXdata’:
* checking DESCRIPTION meta-information ... OK
* installing the package to build vignettes
* creating vignettes ... OK
* checking for LF line-endings in source and make files and shell scripts
* checking for empty or unneeded directories
* looking to see if a ‘data/datalist’ file should be added
* building ‘qPLEXdata_1.11.0.tar.gz’