Back to Build/check report for BioC 3.15 experimental data
ABCDEFGHIJKLMNOP[Q]RSTUVWXYZ

This page was generated on 2021-12-02 17:50:00 -0500 (Thu, 02 Dec 2021).

All results for package qPLEXdata

To the developers/maintainers of the qPLEXdata package:
Make sure to use the following settings in order to reproduce any error or warning you see on this page.

raw results

Package 296/404HostnameOS / ArchINSTALLBUILDCHECK
qPLEXdata 1.13.0  (landing page)
Kamal Kishore Developer
Snapshot Date: 2021-12-02 07:30:02 -0500 (Thu, 02 Dec 2021)
git_url: https://git.bioconductor.org/packages/qPLEXdata
git_branch: master
git_last_commit: 06865b1
git_last_commit_date: 2021-10-26 12:32:32 -0500 (Tue, 26 Oct 2021)
nebbiolo2Linux (Ubuntu 20.04.3 LTS) / x86_64  OK    OK    WARNINGS  UNNEEDED, same version is already published