Index of /checkResults/devel/data-experiment-LATEST/pwrEWAS.data/raw-results

[ICO]NameLast modifiedSizeDescription

[DIR]Parent Directory  -  
[   ]info.dcf06-Dec-2021 07:50 268  
[DIR]nebbiolo2/06-Dec-2021 07:50 -