Back to Build/check report for BioC 3.14 experimental data
ABCDEFGHIJKLMNO[P]QRSTUVWXYZ

This page was generated on 2021-10-16 15:51:46 -0400 (Sat, 16 Oct 2021).

BUILD results for pwrEWAS.data on nebbiolo2

To the developers/maintainers of the pwrEWAS.data package:
Make sure to use the following settings in order to reproduce any error or warning you see on this page.

raw results

Package 293/404HostnameOS / ArchINSTALLBUILDCHECK
pwrEWAS.data 1.7.0  (landing page)
Stefan Graw
Snapshot Date: 2021-10-16 09:30:02 -0400 (Sat, 16 Oct 2021)
git_url: https://git.bioconductor.org/packages/pwrEWAS.data
git_branch: master
git_last_commit: 5c3664e
git_last_commit_date: 2021-05-19 12:09:15 -0400 (Wed, 19 May 2021)
nebbiolo2Linux (Ubuntu 20.04.2 LTS) / x86_64  OK    OK    OK  UNNEEDED, same version is already published

Summary

Package: pwrEWAS.data
Version: 1.7.0
Command: /home/biocbuild/bbs-3.14-bioc/R/bin/R CMD build --keep-empty-dirs --no-resave-data pwrEWAS.data
StartedAt: 2021-10-16 11:30:29 -0400 (Sat, 16 Oct 2021)
EndedAt: 2021-10-16 11:30:32 -0400 (Sat, 16 Oct 2021)
EllapsedTime: 2.4 seconds
RetCode: 0
Status:   OK  
PackageFile: pwrEWAS.data_1.7.0.tar.gz
PackageFileSize: 146.1 KiB

Command output

##############################################################################
##############################################################################
###
### Running command:
###
###   /home/biocbuild/bbs-3.14-bioc/R/bin/R CMD build --keep-empty-dirs --no-resave-data pwrEWAS.data
###
##############################################################################
##############################################################################


* checking for file ‘pwrEWAS.data/DESCRIPTION’ ... OK
* preparing ‘pwrEWAS.data’:
* checking DESCRIPTION meta-information ... OK
* installing the package to build vignettes
* creating vignettes ... OK
* checking for LF line-endings in source and make files and shell scripts
* checking for empty or unneeded directories
Omitted ‘LazyData’ from DESCRIPTION
* building ‘pwrEWAS.data_1.7.0.tar.gz’