Back to Build/check report for BioC 3.15 experimental data
ABCDEFGHIJKLMNO[P]QRSTUVWXYZ

This page was generated on 2021-11-28 18:35:03 -0500 (Sun, 28 Nov 2021).

All results for package pwrEWAS.data

To the developers/maintainers of the pwrEWAS.data package:
Make sure to use the following settings in order to reproduce any error or warning you see on this page.

raw results

Package 293/404HostnameOS / ArchINSTALLBUILDCHECK
pwrEWAS.data 1.9.0  (landing page)
Stefan Graw
Snapshot Date: 2021-11-28 08:30:02 -0500 (Sun, 28 Nov 2021)
git_url: https://git.bioconductor.org/packages/pwrEWAS.data
git_branch: master
git_last_commit: e514f96
git_last_commit_date: 2021-10-26 12:37:07 -0500 (Tue, 26 Oct 2021)
nebbiolo2Linux (Ubuntu 20.04.3 LTS) / x86_64  OK    OK    OK  UNNEEDED, same version is already published