Index of /checkResults/devel/data-experiment-LATEST/ptairData/raw-results/nebbiolo2

[ICO]NameLast modifiedSizeDescription

[DIR]Parent Directory  -  
[TXT]buildsrc-out.txt25-Jan-2022 22:37 824  
[   ]buildsrc-summary.dcf25-Jan-2022 22:37 432  
[TXT]checksrc-out.txt25-Jan-2022 22:37 4.2K 
[   ]checksrc-summary.dcf25-Jan-2022 22:37 451  
[TXT]install-out.txt25-Jan-2022 22:37 1.0K 
[   ]install-summary.dcf25-Jan-2022 22:37 272