Index of /checkResults/devel/data-experiment-LATEST/ptairData/raw-results

[ICO]NameLast modifiedSizeDescription

[DIR]Parent Directory  -  
[DIR]nebbiolo2/20-Jan-2022 22:37 -  
[   ]info.dcf20-Jan-2022 22:37 285