Back to Build/check report for BioC 3.15 experimental data
ABCDEFGHIJKLMNO[P]QRSTUVWXYZ

This page was generated on 2021-10-26 15:49:12 -0400 (Tue, 26 Oct 2021).

All results for package ptairData

To the developers/maintainers of the ptairData package:
Make sure to use the following settings in order to reproduce any error or warning you see on this page.

raw results

Package 286/403HostnameOS / ArchINSTALLBUILDCHECK
ptairData 1.1.2  (landing page)
camille Roquencourt
Snapshot Date: 2021-10-26 09:30:01 -0400 (Tue, 26 Oct 2021)
git_url: https://git.bioconductor.org/packages/ptairData
git_branch: master
git_last_commit: 6ac69bf
git_last_commit_date: 2021-09-15 04:27:44 -0400 (Wed, 15 Sep 2021)
nebbiolo1Linux (Ubuntu 20.04.2 LTS) / x86_64  OK    OK    OK  NO, package depends on 'rhdf5' which is not available