Back to Build/check report for BioC 3.14 experimental data
ABCDEFGHIJKLMNO[P]QRSTUVWXYZ

This page was generated on 2021-10-19 15:52:18 -0400 (Tue, 19 Oct 2021).

BUILD results for prostateCancerTaylor on nebbiolo2

To the developers/maintainers of the prostateCancerTaylor package:
Make sure to use the following settings in order to reproduce any error or warning you see on this page.

raw results

Package 285/404HostnameOS / ArchINSTALLBUILDCHECK
prostateCancerTaylor 1.21.0  (landing page)
Mark Dunning
Snapshot Date: 2021-10-19 09:30:02 -0400 (Tue, 19 Oct 2021)
git_url: https://git.bioconductor.org/packages/prostateCancerTaylor
git_branch: master
git_last_commit: f0b1e10
git_last_commit_date: 2021-05-19 11:56:15 -0400 (Wed, 19 May 2021)
nebbiolo2Linux (Ubuntu 20.04.2 LTS) / x86_64  OK    OK    WARNINGS  UNNEEDED, same version is already published

Summary

Package: prostateCancerTaylor
Version: 1.21.0
Command: /home/biocbuild/bbs-3.14-bioc/R/bin/R CMD build --keep-empty-dirs --no-resave-data prostateCancerTaylor
StartedAt: 2021-10-19 11:31:25 -0400 (Tue, 19 Oct 2021)
EndedAt: 2021-10-19 11:31:41 -0400 (Tue, 19 Oct 2021)
EllapsedTime: 15.8 seconds
RetCode: 0
Status:   OK  
PackageFile: prostateCancerTaylor_1.21.0.tar.gz
PackageFileSize: 25.75 MiB

Command output

##############################################################################
##############################################################################
###
### Running command:
###
###   /home/biocbuild/bbs-3.14-bioc/R/bin/R CMD build --keep-empty-dirs --no-resave-data prostateCancerTaylor
###
##############################################################################
##############################################################################


* checking for file ‘prostateCancerTaylor/DESCRIPTION’ ... OK
* preparing ‘prostateCancerTaylor’:
* checking DESCRIPTION meta-information ... OK
* installing the package to build vignettes
* creating vignettes ... OK
* checking for LF line-endings in source and make files and shell scripts
* checking for empty or unneeded directories
* building ‘prostateCancerTaylor_1.21.0.tar.gz’