Back to Build/check report for BioC 3.14 experimental data
ABCDEFGHIJKLMNO[P]QRSTUVWXYZ

This page was generated on 2021-10-23 15:51:47 -0400 (Sat, 23 Oct 2021).

BUILD results for preciseTADhub on nebbiolo2

To the developers/maintainers of the preciseTADhub package:
Make sure to use the following settings in order to reproduce any error or warning you see on this page.

raw results

Package 280/408HostnameOS / ArchINSTALLBUILDCHECK
preciseTADhub 1.1.3  (landing page)
Mikhail Dozmorov
Snapshot Date: 2021-10-23 09:30:01 -0400 (Sat, 23 Oct 2021)
git_url: https://git.bioconductor.org/packages/preciseTADhub
git_branch: master
git_last_commit: 7306f94
git_last_commit_date: 2021-08-14 20:41:30 -0400 (Sat, 14 Aug 2021)
nebbiolo2Linux (Ubuntu 20.04.2 LTS) / x86_64  OK    OK    OK  UNNEEDED, same version is already published

Summary

Package: preciseTADhub
Version: 1.1.3
Command: /home/biocbuild/bbs-3.14-bioc/R/bin/R CMD build --keep-empty-dirs --no-resave-data preciseTADhub
StartedAt: 2021-10-23 11:31:45 -0400 (Sat, 23 Oct 2021)
EndedAt: 2021-10-23 11:33:04 -0400 (Sat, 23 Oct 2021)
EllapsedTime: 78.9 seconds
RetCode: 0
Status:   OK  
PackageFile: preciseTADhub_1.1.3.tar.gz
PackageFileSize: 228.5 KiB

Command output

##############################################################################
##############################################################################
###
### Running command:
###
###   /home/biocbuild/bbs-3.14-bioc/R/bin/R CMD build --keep-empty-dirs --no-resave-data preciseTADhub
###
##############################################################################
##############################################################################


* checking for file ‘preciseTADhub/DESCRIPTION’ ... OK
* preparing ‘preciseTADhub’:
* checking DESCRIPTION meta-information ... OK
* installing the package to build vignettes
* creating vignettes ... OK
* checking for LF line-endings in source and make files and shell scripts
* checking for empty or unneeded directories
Omitted ‘LazyData’ from DESCRIPTION
* building ‘preciseTADhub_1.1.3.tar.gz’