Back to Build/check report for BioC 3.14 experimental data
ABCDEFGHIJKLMNO[P]QRSTUVWXYZ

This page was generated on 2021-10-16 15:51:46 -0400 (Sat, 16 Oct 2021).

BUILD results for prebsdata on nebbiolo2

To the developers/maintainers of the prebsdata package:
Make sure to use the following settings in order to reproduce any error or warning you see on this page.

raw results

Package 277/404HostnameOS / ArchINSTALLBUILDCHECK
prebsdata 1.29.0  (landing page)
Karolis Uziela
Snapshot Date: 2021-10-16 09:30:02 -0400 (Sat, 16 Oct 2021)
git_url: https://git.bioconductor.org/packages/prebsdata
git_branch: master
git_last_commit: 6b9a505
git_last_commit_date: 2021-05-19 11:40:29 -0400 (Wed, 19 May 2021)
nebbiolo2Linux (Ubuntu 20.04.2 LTS) / x86_64  OK    OK    OK  UNNEEDED, same version is already published

Summary

Package: prebsdata
Version: 1.29.0
Command: /home/biocbuild/bbs-3.14-bioc/R/bin/R CMD build --keep-empty-dirs --no-resave-data prebsdata
StartedAt: 2021-10-16 11:29:49 -0400 (Sat, 16 Oct 2021)
EndedAt: 2021-10-16 11:30:07 -0400 (Sat, 16 Oct 2021)
EllapsedTime: 18.0 seconds
RetCode: 0
Status:   OK  
PackageFile: prebsdata_1.29.0.tar.gz
PackageFileSize: 23.53 MiB

Command output

##############################################################################
##############################################################################
###
### Running command:
###
###   /home/biocbuild/bbs-3.14-bioc/R/bin/R CMD build --keep-empty-dirs --no-resave-data prebsdata
###
##############################################################################
##############################################################################


* checking for file ‘prebsdata/DESCRIPTION’ ... OK
* preparing ‘prebsdata’:
* checking DESCRIPTION meta-information ... OK
* installing the package to build vignettes
* creating vignettes ... OK
* checking for LF line-endings in source and make files and shell scripts
* checking for empty or unneeded directories
* building ‘prebsdata_1.29.0.tar.gz’