Back to Build/check report for BioC 3.15 experimental data
ABCDEFGHIJKLMNO[P]QRSTUVWXYZ

This page was generated on 2021-12-02 17:50:01 -0500 (Thu, 02 Dec 2021).

INSTALL results for ppiData on nebbiolo2

To the developers/maintainers of the ppiData package:
Make sure to use the following settings in order to reproduce any error or warning you see on this page.

raw results

Package 276/404HostnameOS / ArchINSTALLBUILDCHECK
ppiData 0.33.0  (landing page)
Bioconductor Package Maintainer
Snapshot Date: 2021-12-02 07:30:02 -0500 (Thu, 02 Dec 2021)
git_url: https://git.bioconductor.org/packages/ppiData
git_branch: master
git_last_commit: a21ba0c
git_last_commit_date: 2021-10-26 11:40:52 -0500 (Tue, 26 Oct 2021)
nebbiolo2Linux (Ubuntu 20.04.3 LTS) / x86_64  OK    OK    WARNINGS  UNNEEDED, same version is already published

Summary

Package: ppiData
Version: 0.33.0
Command: /home/biocbuild/bbs-3.15-data-experiment/R/bin/R CMD INSTALL ppiData
StartedAt: 2021-12-02 13:02:03 -0500 (Thu, 02 Dec 2021)
EndedAt: 2021-12-02 13:02:14 -0500 (Thu, 02 Dec 2021)
EllapsedTime: 11.5 seconds
RetCode: 0
Status:   OK  

Command output

##############################################################################
##############################################################################
###
### Running command:
###
###   /home/biocbuild/bbs-3.15-data-experiment/R/bin/R CMD INSTALL ppiData
###
##############################################################################
##############################################################################


* installing to library ‘/home/biocbuild/bbs-3.15-data-experiment/R/library’
* installing *source* package ‘ppiData’ ...
** using staged installation
** R
** data
** inst
** byte-compile and prepare package for lazy loading
** help
*** installing help indices
** building package indices
** installing vignettes
** testing if installed package can be loaded from temporary location
** testing if installed package can be loaded from final location
** testing if installed package keeps a record of temporary installation path
* DONE (ppiData)