Back to Build/check report for BioC 3.14 experimental data
ABCDEFGHIJKLMNO[P]QRSTUVWXYZ

This page was generated on 2021-10-16 15:51:46 -0400 (Sat, 16 Oct 2021).

BUILD results for pasilla on nebbiolo2

To the developers/maintainers of the pasilla package:
Make sure to use the following settings in order to reproduce any error or warning you see on this page.

raw results

Package 264/404HostnameOS / ArchINSTALLBUILDCHECK
pasilla 1.21.0  (landing page)
Alejandro Reyes
Snapshot Date: 2021-10-16 09:30:02 -0400 (Sat, 16 Oct 2021)
git_url: https://git.bioconductor.org/packages/pasilla
git_branch: master
git_last_commit: 7c6e289
git_last_commit_date: 2021-05-19 11:32:15 -0400 (Wed, 19 May 2021)
nebbiolo2Linux (Ubuntu 20.04.2 LTS) / x86_64  OK    OK    WARNINGS  UNNEEDED, same version is already published

Summary

Package: pasilla
Version: 1.21.0
Command: /home/biocbuild/bbs-3.14-bioc/R/bin/R CMD build --keep-empty-dirs --no-resave-data pasilla
StartedAt: 2021-10-16 11:29:22 -0400 (Sat, 16 Oct 2021)
EndedAt: 2021-10-16 11:29:44 -0400 (Sat, 16 Oct 2021)
EllapsedTime: 21.5 seconds
RetCode: 0
Status:   OK  
PackageFile: pasilla_1.21.0.tar.gz
PackageFileSize: 3.156 MiB

Command output

##############################################################################
##############################################################################
###
### Running command:
###
###   /home/biocbuild/bbs-3.14-bioc/R/bin/R CMD build --keep-empty-dirs --no-resave-data pasilla
###
##############################################################################
##############################################################################


* checking for file ‘pasilla/DESCRIPTION’ ... OK
* preparing ‘pasilla’:
* checking DESCRIPTION meta-information ... OK
* installing the package to build vignettes
* creating vignettes ... OK
* checking for LF line-endings in source and make files and shell scripts
* checking for empty or unneeded directories
* looking to see if a ‘data/datalist’ file should be added
* building ‘pasilla_1.21.0.tar.gz’