Back to Build/check report for BioC 3.14 experimental data
ABCDEFGHIJKL[M]NOPQRSTUVWXYZ

This page was generated on 2021-10-21 15:52:03 -0400 (Thu, 21 Oct 2021).

BUILD results for muscData on nebbiolo2

To the developers/maintainers of the muscData package:
Make sure to use the following settings in order to reproduce any error or warning you see on this page.

raw results

Package 249/406HostnameOS / ArchINSTALLBUILDCHECK
muscData 1.7.0  (landing page)
Helena L. Crowell
Snapshot Date: 2021-10-21 09:30:01 -0400 (Thu, 21 Oct 2021)
git_url: https://git.bioconductor.org/packages/muscData
git_branch: master
git_last_commit: 34b5153
git_last_commit_date: 2021-05-19 12:08:47 -0400 (Wed, 19 May 2021)
nebbiolo2Linux (Ubuntu 20.04.2 LTS) / x86_64  OK    OK    WARNINGS  UNNEEDED, same version is already published

Summary

Package: muscData
Version: 1.7.0
Command: /home/biocbuild/bbs-3.14-bioc/R/bin/R CMD build --keep-empty-dirs --no-resave-data muscData
StartedAt: 2021-10-21 11:29:30 -0400 (Thu, 21 Oct 2021)
EndedAt: 2021-10-21 11:30:29 -0400 (Thu, 21 Oct 2021)
EllapsedTime: 59.1 seconds
RetCode: 0
Status:   OK  
PackageFile: muscData_1.7.0.tar.gz
PackageFileSize: 230.4 KiB

Command output

##############################################################################
##############################################################################
###
### Running command:
###
###   /home/biocbuild/bbs-3.14-bioc/R/bin/R CMD build --keep-empty-dirs --no-resave-data muscData
###
##############################################################################
##############################################################################


* checking for file ‘muscData/DESCRIPTION’ ... OK
* preparing ‘muscData’:
* checking DESCRIPTION meta-information ... OK
* installing the package to build vignettes
* creating vignettes ... OK
* checking for LF line-endings in source and make files and shell scripts
* checking for empty or unneeded directories
* building ‘muscData_1.7.0.tar.gz’