Back to Build/check report for BioC 3.20 experimental data
ABCDEFGHIJKL[M]NOPQRSTUVWXYZ

This page was generated on 2024-06-20 14:51 -0400 (Thu, 20 Jun 2024).

HostnameOSArch (*)R versionInstalled pkgs
nebbiolo2Linux (Ubuntu 22.04.3 LTS)x86_644.4.0 RC (2024-04-16 r86468) -- "Puppy Cup" 4687
Click on any hostname to see more info about the system (e.g. compilers)      (*) as reported by 'uname -p', except on Windows and Mac OS X

Package 261/425HostnameOS / ArchINSTALLBUILDCHECK
multiWGCNAdata 1.3.0  (landing page)
Dario Tommasini
Snapshot Date: 2024-06-20 07:30 -0400 (Thu, 20 Jun 2024)
git_url: https://git.bioconductor.org/packages/multiWGCNAdata
git_branch: devel
git_last_commit: 0d0db56
git_last_commit_date: 2024-04-30 11:11:46 -0400 (Tue, 30 Apr 2024)
nebbiolo2Linux (Ubuntu 22.04.3 LTS) / x86_64  OK    OK    OK  UNNEEDED, same version is already published


CHECK results for multiWGCNAdata on nebbiolo2

To the developers/maintainers of the multiWGCNAdata package:
- Use the following Renviron settings to reproduce errors and warnings.
- If 'R CMD check' started to fail recently on the Linux builder(s) over a missing dependency, add the missing dependency to 'Suggests:' in your DESCRIPTION file. See Renviron.bioc for more information.

raw results


Summary

Package: multiWGCNAdata
Version: 1.3.0
Command: /home/biocbuild/bbs-3.20-bioc/R/bin/R CMD check --install=check:multiWGCNAdata.install-out.txt --library=/home/biocbuild/bbs-3.20-bioc/R/site-library --timings multiWGCNAdata_1.3.0.tar.gz
StartedAt: 2024-06-20 11:45:52 -0400 (Thu, 20 Jun 2024)
EndedAt: 2024-06-20 11:46:48 -0400 (Thu, 20 Jun 2024)
EllapsedTime: 56.3 seconds
RetCode: 0
Status:   OK  
CheckDir: multiWGCNAdata.Rcheck
Warnings: 0

Command output

##############################################################################
##############################################################################
###
### Running command:
###
###   /home/biocbuild/bbs-3.20-bioc/R/bin/R CMD check --install=check:multiWGCNAdata.install-out.txt --library=/home/biocbuild/bbs-3.20-bioc/R/site-library --timings multiWGCNAdata_1.3.0.tar.gz
###
##############################################################################
##############################################################################


* using log directory ‘/home/biocbuild/bbs-3.20-data-experiment/meat/multiWGCNAdata.Rcheck’
* using R version 4.4.0 RC (2024-04-16 r86468)
* using platform: x86_64-pc-linux-gnu
* R was compiled by
    gcc (Ubuntu 11.4.0-1ubuntu1~22.04) 11.4.0
    GNU Fortran (Ubuntu 11.4.0-1ubuntu1~22.04) 11.4.0
* running under: Ubuntu 22.04.4 LTS
* using session charset: UTF-8
* checking for file ‘multiWGCNAdata/DESCRIPTION’ ... OK
* checking extension type ... Package
* this is package ‘multiWGCNAdata’ version ‘1.3.0’
* package encoding: UTF-8
* checking package namespace information ... OK
* checking package dependencies ... OK
* checking if this is a source package ... OK
* checking if there is a namespace ... OK
* checking for hidden files and directories ... OK
* checking for portable file names ... OK
* checking for sufficient/correct file permissions ... OK
* checking whether package ‘multiWGCNAdata’ can be installed ... OK
* checking installed package size ... OK
* checking package directory ... OK
* checking ‘build’ directory ... OK
* checking DESCRIPTION meta-information ... OK
* checking top-level files ... OK
* checking for left-over files ... OK
* checking index information ... OK
* checking package subdirectories ... OK
* checking whether the package can be loaded ... OK
* checking whether the package can be loaded with stated dependencies ... OK
* checking whether the package can be unloaded cleanly ... OK
* checking whether the namespace can be loaded with stated dependencies ... OK
* checking whether the namespace can be unloaded cleanly ... OK
* checking loading without being on the library search path ... OK
* checking Rd files ... OK
* checking Rd metadata ... OK
* checking Rd cross-references ... OK
* checking for code/documentation mismatches ... OK
* checking Rd \usage sections ... OK
* checking Rd contents ... OK
* checking for unstated dependencies in examples ... OK
* checking files in ‘vignettes’ ... OK
* checking examples ... OK
Examples with CPU (user + system) or elapsed time > 5s
                        user system elapsed
multiWGCNAdata-package 6.121  0.476   7.058
* checking for unstated dependencies in vignettes ... OK
* checking package vignettes ... OK
* checking re-building of vignette outputs ... OK
* checking PDF version of manual ... OK
* DONE

Status: OK


Installation output

multiWGCNAdata.Rcheck/00install.out

##############################################################################
##############################################################################
###
### Running command:
###
###   /home/biocbuild/bbs-3.20-bioc/R/bin/R CMD INSTALL multiWGCNAdata
###
##############################################################################
##############################################################################


* installing to library ‘/home/biocbuild/bbs-3.20-bioc/R/site-library’
* installing *source* package ‘multiWGCNAdata’ ...
** using staged installation
** inst
** help
*** installing help indices
** building package indices
** installing vignettes
** testing if installed package can be loaded from temporary location
** testing if installed package can be loaded from final location
** testing if installed package keeps a record of temporary installation path
* DONE (multiWGCNAdata)

Tests output


Example timings

multiWGCNAdata.Rcheck/multiWGCNAdata-Ex.timings

nameusersystemelapsed
multiWGCNAdata-package6.1210.4767.058