Back to Build/check report for BioC 3.20 experimental data
ABCDEFGHIJKL[M]NOPQRSTUVWXYZ

This page was generated on 2024-06-20 14:51 -0400 (Thu, 20 Jun 2024).

HostnameOSArch (*)R versionInstalled pkgs
nebbiolo2Linux (Ubuntu 22.04.3 LTS)x86_644.4.0 RC (2024-04-16 r86468) -- "Puppy Cup" 4687
Click on any hostname to see more info about the system (e.g. compilers)      (*) as reported by 'uname -p', except on Windows and Mac OS X

Package 261/425HostnameOS / ArchINSTALLBUILDCHECK
multiWGCNAdata 1.3.0  (landing page)
Dario Tommasini
Snapshot Date: 2024-06-20 07:30 -0400 (Thu, 20 Jun 2024)
git_url: https://git.bioconductor.org/packages/multiWGCNAdata
git_branch: devel
git_last_commit: 0d0db56
git_last_commit_date: 2024-04-30 11:11:46 -0400 (Tue, 30 Apr 2024)
nebbiolo2Linux (Ubuntu 22.04.3 LTS) / x86_64  OK    OK    OK  UNNEEDED, same version is already published


BUILD results for multiWGCNAdata on nebbiolo2

To the developers/maintainers of the multiWGCNAdata package:
- Use the following Renviron settings to reproduce errors and warnings.
- If 'R CMD check' started to fail recently on the Linux builder(s) over a missing dependency, add the missing dependency to 'Suggests:' in your DESCRIPTION file. See Renviron.bioc for more information.

raw results


Summary

Package: multiWGCNAdata
Version: 1.3.0
Command: /home/biocbuild/bbs-3.20-bioc/R/bin/R CMD build --keep-empty-dirs --no-resave-data multiWGCNAdata
StartedAt: 2024-06-20 10:41:43 -0400 (Thu, 20 Jun 2024)
EndedAt: 2024-06-20 10:42:07 -0400 (Thu, 20 Jun 2024)
EllapsedTime: 24.2 seconds
RetCode: 0
Status:   OK  
PackageFile: multiWGCNAdata_1.3.0.tar.gz
PackageFileSize: 221.1 KiB

Command output

##############################################################################
##############################################################################
###
### Running command:
###
###   /home/biocbuild/bbs-3.20-bioc/R/bin/R CMD build --keep-empty-dirs --no-resave-data multiWGCNAdata
###
##############################################################################
##############################################################################


* checking for file ‘multiWGCNAdata/DESCRIPTION’ ... OK
* preparing ‘multiWGCNAdata’:
* checking DESCRIPTION meta-information ... OK
* installing the package to build vignettes
* creating vignettes ... OK
* checking for LF line-endings in source and make files and shell scripts
* checking for empty or unneeded directories
Omitted ‘LazyData’ from DESCRIPTION
* building ‘multiWGCNAdata_1.3.0.tar.gz’